{"text_format":"1","workbook":"xlsx","n_sheets":1,"sheets":["КОМАНДНЫЙ ЗАЧЕТ"],"not_rendered":{"charts":0,"images":2,"macros":1,"external_links":0,"defined_names":1,"comments":0,"pivot_tables":0},"unopened":[],"bounds":{"document_bytes":16777216,"sheet_cells":100000,"rows_first":2000,"rows_last":500,"rows_between":2000,"halvings":0,"cell_chars":16384,"cell_head_chars":4096},"cells_cut":0,"cells_raw":0,"read":"whole","date_system":"1900"}

{"sheet":"КОМАНДНЫЙ ЗАЧЕТ","index":0,"n_rows":60,"n_cols":249,"rows_kept":60,"cut":false,"hidden":false,"merged":[[33,2,38,2],[16,3,20,3],[21,3,26,3],[33,3,38,3],[27,3,32,3],[27,0,32,0],[27,1,32,1],[21,1,26,1],[21,2,26,2],[16,0,20,0],[16,1,20,1],[16,2,20,2],[5,0,5,5],[7,4,9,4],[0,6,4,6],[1,0,1,5],[3,0,3,5],[4,0,4,5],[7,6,9,6],[2,0,2,5],[10,5,15,5],[10,0,15,0],[10,1,15,1],[10,2,15,2],[7,0,9,0],[7,1,9,1],[7,2,9,2],[7,3,9,3],[7,5,9,5],[10,3,15,3],[16,5,20,5],[50,0,54,0],[50,1,54,1],[50,2,54,2],[50,5,54,5],[39,0,43,0],[39,1,43,1],[21,0,26,0],[33,5,38,5],[27,2,32,2],[27,5,32,5],[39,5,43,5],[21,5,26,5],[39,2,43,2],[33,0,38,0],[33,1,38,1],[39,3,43,3],[50,3,54,3],[10,4,15,4],[16,4,20,4],[21,4,26,4],[33,4,38,4],[27,4,32,4],[39,4,43,4],[50,4,54,4],[44,5,49,5],[44,0,49,0],[44,1,49,1],[44,2,49,2],[44,3,49,3],[44,4,49,4]]}
[]
["                                                                   "]
["Традиционные соревнования по мотокроссу 2016 года \"Чемпионат и Первенство Санкт- Петербурга                             и Ленинградской области\""]
["ИТОГОВЫЙ ПРОТОКОЛ  КОМАНДНОГО  ЗАЧЕТА.",null,null,null,null,null,null,null,null,null,null,null,null,null,null,null,null,null,null,null,null,null,null,null,null,null,null,null,null,null,null,null,null,null,null,null,null,null,null,null,null,null,null,null,null,null,null,null,null,null,null,null,null,null,null,null,null,null,null,null,null,null,null,null,null,null,null,null,null,null,null,null,null,null,null,null,null,null,null,null,null,null,null,null,null,null,null,null,null,null,null,null,null,null,null,null,null,null,null,null,null,null,null,null,null,null,null,null,null,null,null,null,null,null,null,null,null,null,null,null,null,null,null,null,null,null,null,null,null,null,null,null,null,null,null,null,null,null,null,null,null,null,null,null,null,null,null,null,null,null,null,null,null,null,null,null,null,null,null,null,null,null,null,null,null,"первый этап"]
["1-й этап: 17 - 19 июня 2016 года - д. Старополье, Ленинградская область; 2-й этап: 07 - 09 октября 2016 года - п. Стеклянный, Ленинградская область.",null,null,null,null,null,null,null,null,null,null,null,null,null,null,null,null,null,null,null,null,null,null,null,null,null,null,null,null,null,null,null,null,null,null,null,null,null,null,null,null,null,null,null,null,null,null,null,null,null,null,null,null,null,null,null,null,null,null,null,null,null,null,null,null,null,null,null,null,null,null,null,null,null,null,null,null,null,null,null,null,null,null,null,null,null,null,null,null,null,null,null,null,null,null,null,null,null,null,null,null,null,null,null,null,null,null,null,null,null,null,null,null,null,null,null,null,null,null,null,null,null,null,null,null,null,null,null,null,null,null,null,null,null,null,null,null,null,null,null,null,null,null,null,null,null,null,null,null,null,null,null,null,null,"первый заезд личные очки",null,null,null,null,null,null,null,null,null,null,null,null,null,null,null,null,null,null,null,null,null,"второй заезд личные очки",null,null,null,null,null,null,null,null,null,null,null,null,null,null,null,null,null,null,null,null,null,null,"Первый заезд командные очки",null,null,null,null,null,null,null,null,null,null,null,null,null,null,null,null,null,null,null,null,null,null,"Второй заезд командные очки"]
["КОМАНДНЫЙ ЗАЧЕТ (0910291811Л)",null,null,null,null,null,null,null,null,null,null,null,null,null,null,null,null,null,null,null,null,null,null,null,null,null,null,null,null,null,null,null,null,null,null,null,null,null,null,null,null,null,null,null,null,null,null,null,null,null,null,null,null,null,null,null,null,null,null,null,null,null,null,null,null,null,null,null,null,null,null,null,null,null,null,null,null,null,null,null,null,null,null,null,null,null,null,null,null,null,null,null,null,null,null,null,null,null,null,null,null,null,null,null,null,null,null,null,null,null,null,null,null,null,null,null,null,null,null,null,null,null,null,null,null,null,null,null,null,null,null,null,null,null,null,null,null,null,null,null,null,null,null,null,null,null,null,null,null,null,null,null,null,1,2,3,4,5,6,7,8,9,10,11,12,13,14,15,16,17,18,19,20,21,"сх","Sym",1,2,3,4,5,6,7,8,9,10,11,12,13,14,15,16,17,18,19,20,21,"cx","sym",1,2,3,4,5,6,7,8,9,10,11,12,13,14,15,16,17,18,19,20,21,"сх","очки",1,2,3,4,5,6,7,8,9,10,11,12,13,14,15,16,17,18,19,20,21,"сх","очки",{"$f":"COUNT(EX6:IK6)","v":84},"Н. Стро","В. стро","место"]
[]
["Место ","Город (край, район, область)","Наименование команды (клуба)","Очки 1-й этап","Очки 2-й этап","Сумма очков             ","Сумма очк. в командном зачете"]
[null,null,null,null,null,null,null,null,null,null,"первый заезд личные очки",null,null,null,null,null,null,null,null,null,null,null,null,null,null,null,null,null,null,null,null,null,"второй заезд личные очки",null,null,null,null,null,null,null,null,null,null,null,null,null,null,null,null,null,null,null,null,null,null,"Первый заезд командные очки",null,null,null,null,null,null,null,null,null,null,null,null,null,null,null,null,null,null,null,null,null,null,null,null,null,null,null,null,null,null,null,null,null,null,null,null,null,null,null,null,null,null,"Второй заезд командные очки",null,null,null,null,null,null,null,null,null,null,null,null,null,null,null,null,null,null,null,null,null,null,null,null,null,null,null,null,null,null,null,null,null,null,null,null,null,null,null,null,null,null,null,1,2,null,null,null,null,null,null,null,null,null,null,null,null,null,null,null,null,null,null,null,null,null,"первый этап"]
[null,null,null,null,null,null,null,null,null,1,2,3,4,5,6,7,8,9,10,11,12,13,14,15,16,17,18,19,20,21,"сх",null,1,2,3,4,5,6,7,8,9,10,11,12,13,14,15,16,17,18,19,20,null,"cx",null,1,2,3,4,5,6,7,8,9,10,11,12,13,14,15,16,17,18,19,20,21,22,23,24,25,26,27,28,29,30,31,32,33,34,35,36,37,38,39,40,null,null,null,1,2,3,4,5,6,7,8,9,10,11,12,13,14,15,16,17,18,19,20,21,22,23,24,25,26,27,28,29,30,31,32,33,34,35,36,37,38,39,40,null,null,null,null,null,null,null,"мин","Н. Стро","В. стро","место",null,"чр1","чр2",null,null,"первый заезд личные очки",null,null,null,null,null,null,null,null,null,null,null,null,null,null,null,null,null,null,null,null,null,"второй заезд личные очки",null,null,null,null,null,null,null,null,null,null,null,null,null,null,null,null,null,null,null,null,null,null,"Первый заезд командные очки",null,null,null,null,null,null,null,null,null,null,null,null,null,null,null,null,null,null,null,null,null,null,"Второй заезд командные очки"]
[null,"г. Москва","ДОСААФ № 1",null,null,null,{"$f":"#REF!+#REF!","v":{"$error":"#REF!"}},null,null,{"$f":"IF(#REF!=1,25,0)","v":{"$error":"#REF!"}},{"$f":"IF(#REF!=2,22,0)","v":{"$error":"#REF!"}},{"$f":"IF(#REF!=3,20,0)","v":{"$error":"#REF!"}},{"$f":"IF(#REF!=4,18,0)","v":{"$error":"#REF!"}},{"$f":"IF(#REF!=5,16,0)","v":{"$error":"#REF!"}},{"$f":"IF(#REF!=6,15,0)","v":{"$error":"#REF!"}},{"$f":"IF(#REF!=7,14,0)","v":{"$error":"#REF!"}},{"$f":"IF(#REF!=8,13,0)","v":{"$error":"#REF!"}},{"$f":"IF(#REF!=9,12,0)","v":{"$error":"#REF!"}},{"$f":"IF(#REF!=10,11,0)","v":{"$error":"#REF!"}},{"$f":"IF(#REF!=11,10,0)","v":{"$error":"#REF!"}},{"$f":"IF(#REF!=12,9,0)","v":{"$error":"#REF!"}},{"$f":"IF(#REF!=13,8,0)","v":{"$error":"#REF!"}},{"$f":"IF(#REF!=14,7,0)","v":{"$error":"#REF!"}},{"$f":"IF(#REF!=15,6,0)","v":{"$error":"#REF!"}},{"$f":"IF(#REF!=16,5,0)","v":{"$error":"#REF!"}},{"$f":"IF(#REF!=17,4,0)","v":{"$error":"#REF!"}},{"$f":"IF(#REF!=18,3,0)","v":{"$error":"#REF!"}},{"$f":"IF(#REF!=19,2,0)","v":{"$error":"#REF!"}},{"$f":"IF(#REF!=20,1,0)","v":{"$error":"#REF!"}},{"$f":"IF(#REF!>20,0,0)","v":{"$error":"#REF!"}},{"$f":"IF(#REF!=\"сх\",0,0)","v":{"$error":"#REF!"}},{"$f":"SUM(J11:AD11)","v":{"$error":"#REF!"}},{"$f":"IF(#REF!=1,25,0)","v":{"$error":"#REF!"}},{"$f":"IF(#REF!=2,22,0)","v":{"$error":"#REF!"}},{"$f":"IF(#REF!=3,20,0)","v":{"$error":"#REF!"}},{"$f":"IF(#REF!=4,18,0)","v":{"$error":"#REF!"}},{"$f":"IF(#REF!=5,16,0)","v":{"$error":"#REF!"}},{"$f":"IF(#REF!=6,15,0)","v":{"$error":"#REF!"}},{"$f":"IF(#REF!=7,14,0)","v":{"$error":"#REF!"}},{"$f":"IF(#REF!=8,13,0)","v":{"$error":"#REF!"}},{"$f":"IF(#REF!=9,12,0)","v":{"$error":"#REF!"}},{"$f":"IF(#REF!=10,11,0)","v":{"$error":"#REF!"}},{"$f":"IF(#REF!=11,10,0)","v":{"$error":"#REF!"}},{"$f":"IF(#REF!=12,9,0)","v":{"$error":"#REF!"}},{"$f":"IF(#REF!=13,8,0)","v":{"$error":"#REF!"}},{"$f":"IF(#REF!=14,7,0)","v":{"$error":"#REF!"}},{"$f":"IF(#REF!=15,6,0)","v":{"$error":"#REF!"}},{"$f":"IF(#REF!=16,5,0)","v":{"$error":"#REF!"}},{"$f":"IF(#REF!=17,4,0)","v":{"$error":"#REF!"}},{"$f":"IF(#REF!=18,3,0)","v":{"$error":"#REF!"}},{"$f":"IF(#REF!=19,2,0)","v":{"$error":"#REF!"}},{"$f":"IF(#REF!=20,1,0)","v":{"$error":"#REF!"}},{"$f":"IF(#REF!>20,0,0)","v":{"$error":"#REF!"}},{"$f":"IF(#REF!=\"сх\",0,0)","v":{"$error":"#REF!"}},{"$f":"SUM(AG11:BA11)","v":{"$error":"#REF!"}},{"$f":"IF(#REF!=1,45,0)","v":{"$error":"#REF!"}},{"$f":"IF(#REF!=2,42,0)","v":{"$error":"#REF!"}},{"$f":"IF(#REF!=3,40,0)","v":{"$error":"#REF!"}},{"$f":"IF(#REF!=4,38,0)","v":{"$error":"#REF!"}},{"$f":"IF(#REF!=5,36,0)","v":{"$error":"#REF!"}},{"$f":"IF(#REF!=6,35,0)","v":{"$error":"#REF!"}},{"$f":"IF(#REF!=7,34,0)","v":{"$error":"#REF!"}},{"$f":"IF(#REF!=8,33,0)","v":{"$error":"#REF!"}},{"$f":"IF(#REF!=9,32,0)","v":{"$error":"#REF!"}},{"$f":"IF(#REF!=10,31,0)","v":{"$error":"#REF!"}},{"$f":"IF(#REF!=11,30,0)","v":{"$error":"#REF!"}},{"$f":"IF(#REF!=12,29,0)","v":{"$error":"#REF!"}},{"$f":"IF(#REF!=13,28,0)","v":{"$error":"#REF!"}},{"$f":"IF(#REF!=14,27,0)","v":{"$error":"#REF!"}},{"$f":"IF(#REF!=15,26,0)","v":{"$error":"#REF!"}},{"$f":"IF(#REF!=16,25,0)","v":{"$error":"#REF!"}},{"$f":"IF(#REF!=17,24,0)","v":{"$error":"#REF!"}},{"$f":"IF(#REF!=18,23,0)","v":{"$error":"#REF!"}},{"$f":"IF(#REF!=19,22,0)","v":{"$error":"#REF!"}},{"$f":"IF(#REF!=20,21,0)","v":{"$error":"#REF!"}},{"$f":"IF(#REF!=21,20,0)","v":{"$error":"#REF!"}},{"$f":"IF(#REF!=22,19,0)","v":{"$error":"#REF!"}},{"$f":"IF(#REF!=23,18,0)","v":{"$error":"#REF!"}},{"$f":"IF(#REF!=24,17,0)","v":{"$error":"#REF!"}},{"$f":"IF(#REF!=25,16,0)","v":{"$error":"#REF!"}},{"$f":"IF(#REF!=26,15,0)","v":{"$error":"#REF!"}},{"$f":"IF(#REF!=27,14,0)","v":{"$error":"#REF!"}},{"$f":"IF(#REF!=28,13,0)","v":{"$error":"#REF!"}},{"$f":"IF(#REF!=29,12,0)","v":{"$error":"#REF!"}},{"$f":"IF(#REF!=30,11,0)","v":{"$error":"#REF!"}},{"$f":"IF(#REF!=31,10,0)","v":{"$error":"#REF!"}},{"$f":"IF(#REF!=32,9,0)","v":{"$error":"#REF!"}},{"$f":"IF(#REF!=33,8,0)","v":{"$error":"#REF!"}},{"$f":"IF(#REF!=34,7,0)","v":{"$error":"#REF!"}},{"$f":"IF(#REF!=35,6,0)","v":{"$error":"#REF!"}},{"$f":"IF(#REF!=36,5,0)","v":{"$error":"#REF!"}},{"$f":"IF(#REF!=37,4,0)","v":{"$error":"#REF!"}},{"$f":"IF(#REF!=38,3,0)","v":{"$error":"#REF!"}},{"$f":"IF(#REF!=39,2,0)","v":{"$error":"#REF!"}},{"$f":"IF(#REF!=40,1,0)","v":{"$error":"#REF!"}},{"$f":"IF(#REF!>20,0,0)","v":{"$error":"#REF!"}},{"$f":"IF(#REF!=\"сх\",0,0)","v":{"$error":"#REF!"}},{"$f":"SUM(BD11:CS11)","v":{"$error":"#REF!"}},{"$f":"IF(#REF!=1,45,0)","v":{"$error":"#REF!"}},{"$f":"IF(#REF!=2,42,0)","v":{"$error":"#REF!"}},{"$f":"IF(#REF!=3,40,0)","v":{"$error":"#REF!"}},{"$f":"IF(#REF!=4,38,0)","v":{"$error":"#REF!"}},{"$f":"IF(#REF!=5,36,0)","v":{"$error":"#REF!"}},{"$f":"IF(#REF!=6,35,0)","v":{"$error":"#REF!"}},{"$f":"IF(#REF!=7,34,0)","v":{"$error":"#REF!"}},{"$f":"IF(#REF!=8,33,0)","v":{"$error":"#REF!"}},{"$f":"IF(#REF!=9,32,0)","v":{"$error":"#REF!"}},{"$f":"IF(#REF!=10,31,0)","v":{"$error":"#REF!"}},{"$f":"IF(#REF!=11,30,0)","v":{"$error":"#REF!"}},{"$f":"IF(#REF!=12,29,0)","v":{"$error":"#REF!"}},{"$f":"IF(#REF!=13,28,0)","v":{"$error":"#REF!"}},{"$f":"IF(#REF!=14,27,0)","v":{"$error":"#REF!"}},{"$f":"IF(#REF!=15,26,0)","v":{"$error":"#REF!"}},{"$f":"IF(#REF!=16,25,0)","v":{"$error":"#REF!"}},{"$f":"IF(#REF!=17,24,0)","v":{"$error":"#REF!"}},{"$f":"IF(#REF!=18,23,0)","v":{"$error":"#REF!"}},{"$f":"IF(#REF!=19,22,0)","v":{"$error":"#REF!"}},{"$f":"IF(#REF!=20,21,0)","v":{"$error":"#REF!"}},{"$f":"IF(#REF!=21,20,0)","v":{"$error":"#REF!"}},{"$f":"IF(#REF!=22,19,0)","v":{"$error":"#REF!"}},{"$f":"IF(#REF!=23,18,0)","v":{"$error":"#REF!"}},{"$f":"IF(#REF!=24,17,0)","v":{"$error":"#REF!"}},{"$f":"IF(#REF!=25,16,0)","v":{"$error":"#REF!"}},{"$f":"IF(#REF!=26,15,0)","v":{"$error":"#REF!"}},{"$f":"IF(#REF!=27,14,0)","v":{"$error":"#REF!"}},{"$f":"IF(#REF!=28,13,0)","v":{"$error":"#REF!"}},{"$f":"IF(#REF!=29,12,0)","v":{"$error":"#REF!"}},{"$f":"IF(#REF!=30,11,0)","v":{"$error":"#REF!"}},{"$f":"IF(#REF!=31,10,0)","v":{"$error":"#REF!"}},{"$f":"IF(#REF!=32,9,0)","v":{"$error":"#REF!"}},{"$f":"IF(#REF!=33,8,0)","v":{"$error":"#REF!"}},{"$f":"IF(#REF!=34,7,0)","v":{"$error":"#REF!"}},{"$f":"IF(#REF!=35,6,0)","v":{"$error":"#REF!"}},{"$f":"IF(#REF!=36,5,0)","v":{"$error":"#REF!"}},{"$f":"IF(#REF!=37,4,0)","v":{"$error":"#REF!"}},{"$f":"IF(#REF!=38,3,0)","v":{"$error":"#REF!"}},{"$f":"IF(#REF!=39,2,0)","v":{"$error":"#REF!"}},{"$f":"IF(#REF!=40,1,0)","v":{"$error":"#REF!"}},{"$f":"IF(#REF!>20,0,0)","v":{"$error":"#REF!"}},{"$f":"IF(#REF!=\"сх\",0,0)","v":{"$error":"#REF!"}},{"$f":"SUM(CU11:EJ11)","v":{"$error":"#REF!"}},null,{"$f":"IF(#REF!=\"сх\",\"ноль\",IF(#REF!>0,#REF!,\"Ноль\"))","v":{"$error":"#REF!"}},{"$f":"IF(#REF!=\"сх\",\"ноль\",IF(#REF!>0,#REF!,\"Ноль\"))","v":{"$error":"#REF!"}},null,{"$f":"MIN(EM11,EN11)","v":{"$error":"#REF!"}},{"$f":"IF(F11=#REF!,IF(#REF!<#REF!,#REF!,EU11),#REF!)","v":{"$error":"#REF!"}},{"$f":"IF(F11=#REF!,IF(#REF!<#REF!,0,1))","v":{"$error":"#REF!"}},{"$f":"IF(AND(EP11>=21,EP11<>0),EP11,IF(F11<#REF!,\"СТОП\",EQ11+ER11))","v":{"$error":"#REF!"}},null,15,16,null,{"$f":"IF(#REF!=1,25,0)","v":{"$error":"#REF!"}},{"$f":"IF(#REF!=2,22,0)","v":{"$error":"#REF!"}},{"$f":"IF(#REF!=3,20,0)","v":{"$error":"#REF!"}},{"$f":"IF(#REF!=4,18,0)","v":{"$error":"#REF!"}},{"$f":"IF(#REF!=5,16,0)","v":{"$error":"#REF!"}},{"$f":"IF(#REF!=6,15,0)","v":{"$error":"#REF!"}},{"$f":"IF(#REF!=7,14,0)","v":{"$error":"#REF!"}},{"$f":"IF(#REF!=8,13,0)","v":{"$error":"#REF!"}},{"$f":"IF(#REF!=9,12,0)","v":{"$error":"#REF!"}},{"$f":"IF(#REF!=10,11,0)","v":{"$error":"#REF!"}},{"$f":"IF(#REF!=11,10,0)","v":{"$error":"#REF!"}},{"$f":"IF(#REF!=12,9,0)","v":{"$error":"#REF!"}},{"$f":"IF(#REF!=13,8,0)","v":{"$error":"#REF!"}},{"$f":"IF(#REF!=14,7,0)","v":{"$error":"#REF!"}},{"$f":"IF(#REF!=15,6,0)","v":{"$error":"#REF!"}},{"$f":"IF(#REF!=16,5,0)","v":{"$error":"#REF!"}},{"$f":"IF(#REF!=17,4,0)","v":{"$error":"#REF!"}},{"$f":"IF(#REF!=18,3,0)","v":{"$error":"#REF!"}},{"$f":"IF(#REF!=19,2,0)","v":{"$error":"#REF!"}},{"$f":"IF(#REF!=20,1,0)","v":{"$error":"#REF!"}},{"$f":"IF(#REF!>20,0,0)","v":{"$error":"#REF!"}},{"$f":"IF(#REF!=\"сх\",0,0)","v":{"$error":"#REF!"}},{"$f":"SUM(EX11:FS11)","v":{"$error":"#REF!"}},{"$f":"IF(#REF!=1,25,0)","v":{"$error":"#REF!"}},{"$f":"IF(#REF!=2,22,0)","v":{"$error":"#REF!"}},{"$f":"IF(#REF!=3,20,0)","v":{"$error":"#REF!"}},{"$f":"IF(#REF!=4,18,0)","v":{"$error":"#REF!"}},{"$f":"IF(#REF!=5,16,0)","v":{"$error":"#REF!"}},{"$f":"IF(#REF!=6,15,0)","v":{"$error":"#REF!"}},{"$f":"IF(#REF!=7,14,0)","v":{"$error":"#REF!"}},{"$f":"IF(#REF!=8,13,0)","v":{"$error":"#REF!"}},{"$f":"IF(#REF!=9,12,0)","v":{"$error":"#REF!"}},{"$f":"IF(#REF!=10,11,0)","v":{"$error":"#REF!"}},{"$f":"IF(#REF!=11,10,0)","v":{"$error":"#REF!"}},{"$f":"IF(#REF!=12,9,0)","v":{"$error":"#REF!"}},{"$f":"IF(#REF!=13,8,0)","v":{"$error":"#REF!"}},{"$f":"IF(#REF!=14,7,0)","v":{"$error":"#REF!"}},{"$f":"IF(#REF!=15,6,0)","v":{"$error":"#REF!"}},{"$f":"IF(#REF!=16,5,0)","v":{"$error":"#REF!"}},{"$f":"IF(#REF!=17,4,0)","v":{"$error":"#REF!"}},{"$f":"IF(#REF!=18,3,0)","v":{"$error":"#REF!"}},{"$f":"IF(#REF!=19,2,0)","v":{"$error":"#REF!"}},{"$f":"IF(#REF!=20,1,0)","v":{"$error":"#REF!"}},{"$f":"IF(#REF!>20,0,0)","v":{"$error":"#REF!"}},{"$f":"IF(#REF!=\"сх\",0,0)","v":{"$error":"#REF!"}},{"$f":"SUM(FU11:GP11)","v":{"$error":"#REF!"}},{"$f":"IF(#REF!=1,100,0)","v":{"$error":"#REF!"}},{"$f":"IF(#REF!=2,98,0)","v":{"$error":"#REF!"}},{"$f":"IF(#REF!=3,95,0)","v":{"$error":"#REF!"}},{"$f":"IF(#REF!=4,93,0)","v":{"$error":"#REF!"}},{"$f":"IF(#REF!=5,90,0)","v":{"$error":"#REF!"}},{"$f":"IF(#REF!=6,88,0)","v":{"$error":"#REF!"}},{"$f":"IF(#REF!=7,85,0)","v":{"$error":"#REF!"}},{"$f":"IF(#REF!=8,83,0)","v":{"$error":"#REF!"}},{"$f":"IF(#REF!=9,80,0)","v":{"$error":"#REF!"}},{"$f":"IF(#REF!=10,78,0)","v":{"$error":"#REF!"}},{"$f":"IF(#REF!=11,75,0)","v":{"$error":"#REF!"}},{"$f":"IF(#REF!=12,73,0)","v":{"$error":"#REF!"}},{"$f":"IF(#REF!=13,70,0)","v":{"$error":"#REF!"}},{"$f":"IF(#REF!=14,68,0)","v":{"$error":"#REF!"}},{"$f":"IF(#REF!=15,65,0)","v":{"$error":"#REF!"}},{"$f":"IF(#REF!=16,63,0)","v":{"$error":"#REF!"}},{"$f":"IF(#REF!=17,60,0)","v":{"$error":"#REF!"}},{"$f":"IF(#REF!=18,58,0)","v":{"$error":"#REF!"}},{"$f":"IF(#REF!=19,55,0)","v":{"$error":"#REF!"}},{"$f":"IF(#REF!=20,53,0)","v":{"$error":"#REF!"}},{"$f":"IF(#REF!>20,0,0)","v":{"$error":"#REF!"}},{"$f":"IF(#REF!=\"сх\",0,0)","v":{"$error":"#REF!"}},{"$f":"SUM(GR11:HM11)","v":{"$error":"#REF!"}},{"$f":"IF(#REF!=1,100,0)","v":{"$error":"#REF!"}},{"$f":"IF(#REF!=2,98,0)","v":{"$error":"#REF!"}},{"$f":"IF(#REF!=3,95,0)","v":{"$error":"#REF!"}},{"$f":"IF(#REF!=4,93,0)","v":{"$error":"#REF!"}},{"$f":"IF(#REF!=5,90,0)","v":{"$error":"#REF!"}},{"$f":"IF(#REF!=6,88,0)","v":{"$error":"#REF!"}},{"$f":"IF(#REF!=7,85,0)","v":{"$error":"#REF!"}},{"$f":"IF(#REF!=8,83,0)","v":{"$error":"#REF!"}},{"$f":"IF(#REF!=9,80,0)","v":{"$error":"#REF!"}},{"$f":"IF(#REF!=10,78,0)","v":{"$error":"#REF!"}},{"$f":"IF(#REF!=11,75,0)","v":{"$error":"#REF!"}},{"$f":"IF(#REF!=12,73,0)","v":{"$error":"#REF!"}},{"$f":"IF(#REF!=13,70,0)","v":{"$error":"#REF!"}},{"$f":"IF(#REF!=14,68,0)","v":{"$error":"#REF!"}},{"$f":"IF(#REF!=15,65,0)","v":{"$error":"#REF!"}},{"$f":"IF(#REF!=16,63,0)","v":{"$error":"#REF!"}},{"$f":"IF(#REF!=17,60,0)","v":{"$error":"#REF!"}},{"$f":"IF(#REF!=18,58,0)","v":{"$error":"#REF!"}},{"$f":"IF(#REF!=19,55,0)","v":{"$error":"#REF!"}},{"$f":"IF(#REF!=20,53,0)","v":{"$error":"#REF!"}},{"$f":"IF(#REF!>20,0,0)","v":{"$error":"#REF!"}},{"$f":"IF(#REF!=\"сх\",0,0)","v":{"$error":"#REF!"}},{"$f":"SUM(HO11:IJ11)","v":{"$error":"#REF!"}}]
[]
[]
[]
[]
[]
[1,"г. Санкт-Петербург","\"Viktoroffroad\"",431,420,{"$f":"SUM(D17+E17)","v":851}]
[]
[]
[]
[]
[2,"г. Санкт-Петербург","Школа мотокросса\"SSMX TEAM\"",400,413,{"$f":"SUM(D22+E22)","v":813}]
[]
[]
[]
[]
[]
[3,"г. Санкт-Петербург","ГДТЮ \"Baltic Race\"",384,378,{"$f":"SUM(D28+E28)","v":762}]
[]
[]
[]
[]
[]
[4,"г. Санкт-Петербург","Школа мотокросса \"SSMX\"/ДОСААФ Мототрек",389,368,{"$f":"SUM(D34+E34)","v":757}]
[]
[]
[]
[]
[]
[5,"г. Санкт-Петербург","\"Техно Клуб Колпино\"",337,309,{"$f":"SUM(D40+E40)","v":646}]
[]
[]
[]
[null,null,null,null,null,null,{"$f":"#REF!+#REF!","v":{"$error":"#REF!"}},null,null,{"$f":"IF(#REF!=1,25,0)","v":{"$error":"#REF!"}},{"$f":"IF(#REF!=2,22,0)","v":{"$error":"#REF!"}},{"$f":"IF(#REF!=3,20,0)","v":{"$error":"#REF!"}},{"$f":"IF(#REF!=4,18,0)","v":{"$error":"#REF!"}},{"$f":"IF(#REF!=5,16,0)","v":{"$error":"#REF!"}},{"$f":"IF(#REF!=6,15,0)","v":{"$error":"#REF!"}},{"$f":"IF(#REF!=7,14,0)","v":{"$error":"#REF!"}},{"$f":"IF(#REF!=8,13,0)","v":{"$error":"#REF!"}},{"$f":"IF(#REF!=9,12,0)","v":{"$error":"#REF!"}},{"$f":"IF(#REF!=10,11,0)","v":{"$error":"#REF!"}},{"$f":"IF(#REF!=11,10,0)","v":{"$error":"#REF!"}},{"$f":"IF(#REF!=12,9,0)","v":{"$error":"#REF!"}},{"$f":"IF(#REF!=13,8,0)","v":{"$error":"#REF!"}},{"$f":"IF(#REF!=14,7,0)","v":{"$error":"#REF!"}},{"$f":"IF(#REF!=15,6,0)","v":{"$error":"#REF!"}},{"$f":"IF(#REF!=16,5,0)","v":{"$error":"#REF!"}},{"$f":"IF(#REF!=17,4,0)","v":{"$error":"#REF!"}},{"$f":"IF(#REF!=18,3,0)","v":{"$error":"#REF!"}},{"$f":"IF(#REF!=19,2,0)","v":{"$error":"#REF!"}},{"$f":"IF(#REF!=20,1,0)","v":{"$error":"#REF!"}},{"$f":"IF(#REF!>20,0,0)","v":{"$error":"#REF!"}},{"$f":"IF(#REF!=\"сх\",0,0)","v":{"$error":"#REF!"}},{"$f":"SUM(J44:AD44)","v":{"$error":"#REF!"}},{"$f":"IF(#REF!=1,25,0)","v":{"$error":"#REF!"}},{"$f":"IF(#REF!=2,22,0)","v":{"$error":"#REF!"}},{"$f":"IF(#REF!=3,20,0)","v":{"$error":"#REF!"}},{"$f":"IF(#REF!=4,18,0)","v":{"$error":"#REF!"}},{"$f":"IF(#REF!=5,16,0)","v":{"$error":"#REF!"}},{"$f":"IF(#REF!=6,15,0)","v":{"$error":"#REF!"}},{"$f":"IF(#REF!=7,14,0)","v":{"$error":"#REF!"}},{"$f":"IF(#REF!=8,13,0)","v":{"$error":"#REF!"}},{"$f":"IF(#REF!=9,12,0)","v":{"$error":"#REF!"}},{"$f":"IF(#REF!=10,11,0)","v":{"$error":"#REF!"}},{"$f":"IF(#REF!=11,10,0)","v":{"$error":"#REF!"}},{"$f":"IF(#REF!=12,9,0)","v":{"$error":"#REF!"}},{"$f":"IF(#REF!=13,8,0)","v":{"$error":"#REF!"}},{"$f":"IF(#REF!=14,7,0)","v":{"$error":"#REF!"}},{"$f":"IF(#REF!=15,6,0)","v":{"$error":"#REF!"}},{"$f":"IF(#REF!=16,5,0)","v":{"$error":"#REF!"}},{"$f":"IF(#REF!=17,4,0)","v":{"$error":"#REF!"}},{"$f":"IF(#REF!=18,3,0)","v":{"$error":"#REF!"}},{"$f":"IF(#REF!=19,2,0)","v":{"$error":"#REF!"}},{"$f":"IF(#REF!=20,1,0)","v":{"$error":"#REF!"}},{"$f":"IF(#REF!>20,0,0)","v":{"$error":"#REF!"}},{"$f":"IF(#REF!=\"сх\",0,0)","v":{"$error":"#REF!"}},{"$f":"SUM(AG44:BA44)","v":{"$error":"#REF!"}},{"$f":"IF(#REF!=1,45,0)","v":{"$error":"#REF!"}},{"$f":"IF(#REF!=2,42,0)","v":{"$error":"#REF!"}},{"$f":"IF(#REF!=3,40,0)","v":{"$error":"#REF!"}},{"$f":"IF(#REF!=4,38,0)","v":{"$error":"#REF!"}},{"$f":"IF(#REF!=5,36,0)","v":{"$error":"#REF!"}},{"$f":"IF(#REF!=6,35,0)","v":{"$error":"#REF!"}},{"$f":"IF(#REF!=7,34,0)","v":{"$error":"#REF!"}},{"$f":"IF(#REF!=8,33,0)","v":{"$error":"#REF!"}},{"$f":"IF(#REF!=9,32,0)","v":{"$error":"#REF!"}},{"$f":"IF(#REF!=10,31,0)","v":{"$error":"#REF!"}},{"$f":"IF(#REF!=11,30,0)","v":{"$error":"#REF!"}},{"$f":"IF(#REF!=12,29,0)","v":{"$error":"#REF!"}},{"$f":"IF(#REF!=13,28,0)","v":{"$error":"#REF!"}},{"$f":"IF(#REF!=14,27,0)","v":{"$error":"#REF!"}},{"$f":"IF(#REF!=15,26,0)","v":{"$error":"#REF!"}},{"$f":"IF(#REF!=16,25,0)","v":{"$error":"#REF!"}},{"$f":"IF(#REF!=17,24,0)","v":{"$error":"#REF!"}},{"$f":"IF(#REF!=18,23,0)","v":{"$error":"#REF!"}},{"$f":"IF(#REF!=19,22,0)","v":{"$error":"#REF!"}},{"$f":"IF(#REF!=20,21,0)","v":{"$error":"#REF!"}},{"$f":"IF(#REF!=21,20,0)","v":{"$error":"#REF!"}},{"$f":"IF(#REF!=22,19,0)","v":{"$error":"#REF!"}},{"$f":"IF(#REF!=23,18,0)","v":{"$error":"#REF!"}},{"$f":"IF(#REF!=24,17,0)","v":{"$error":"#REF!"}},{"$f":"IF(#REF!=25,16,0)","v":{"$error":"#REF!"}},{"$f":"IF(#REF!=26,15,0)","v":{"$error":"#REF!"}},{"$f":"IF(#REF!=27,14,0)","v":{"$error":"#REF!"}},{"$f":"IF(#REF!=28,13,0)","v":{"$error":"#REF!"}},{"$f":"IF(#REF!=29,12,0)","v":{"$error":"#REF!"}},{"$f":"IF(#REF!=30,11,0)","v":{"$error":"#REF!"}},{"$f":"IF(#REF!=31,10,0)","v":{"$error":"#REF!"}},{"$f":"IF(#REF!=32,9,0)","v":{"$error":"#REF!"}},{"$f":"IF(#REF!=33,8,0)","v":{"$error":"#REF!"}},{"$f":"IF(#REF!=34,7,0)","v":{"$error":"#REF!"}},{"$f":"IF(#REF!=35,6,0)","v":{"$error":"#REF!"}},{"$f":"IF(#REF!=36,5,0)","v":{"$error":"#REF!"}},{"$f":"IF(#REF!=37,4,0)","v":{"$error":"#REF!"}},{"$f":"IF(#REF!=38,3,0)","v":{"$error":"#REF!"}},{"$f":"IF(#REF!=39,2,0)","v":{"$error":"#REF!"}},{"$f":"IF(#REF!=40,1,0)","v":{"$error":"#REF!"}},{"$f":"IF(#REF!>20,0,0)","v":{"$error":"#REF!"}},{"$f":"IF(#REF!=\"сх\",0,0)","v":{"$error":"#REF!"}},{"$f":"SUM(BD44:CS44)","v":{"$error":"#REF!"}},{"$f":"IF(#REF!=1,45,0)","v":{"$error":"#REF!"}},{"$f":"IF(#REF!=2,42,0)","v":{"$error":"#REF!"}},{"$f":"IF(#REF!=3,40,0)","v":{"$error":"#REF!"}},{"$f":"IF(#REF!=4,38,0)","v":{"$error":"#REF!"}},{"$f":"IF(#REF!=5,36,0)","v":{"$error":"#REF!"}},{"$f":"IF(#REF!=6,35,0)","v":{"$error":"#REF!"}},{"$f":"IF(#REF!=7,34,0)","v":{"$error":"#REF!"}},{"$f":"IF(#REF!=8,33,0)","v":{"$error":"#REF!"}},{"$f":"IF(#REF!=9,32,0)","v":{"$error":"#REF!"}},{"$f":"IF(#REF!=10,31,0)","v":{"$error":"#REF!"}},{"$f":"IF(#REF!=11,30,0)","v":{"$error":"#REF!"}},{"$f":"IF(#REF!=12,29,0)","v":{"$error":"#REF!"}},{"$f":"IF(#REF!=13,28,0)","v":{"$error":"#REF!"}},{"$f":"IF(#REF!=14,27,0)","v":{"$error":"#REF!"}},{"$f":"IF(#REF!=15,26,0)","v":{"$error":"#REF!"}},{"$f":"IF(#REF!=16,25,0)","v":{"$error":"#REF!"}},{"$f":"IF(#REF!=17,24,0)","v":{"$error":"#REF!"}},{"$f":"IF(#REF!=18,23,0)","v":{"$error":"#REF!"}},{"$f":"IF(#REF!=19,22,0)","v":{"$error":"#REF!"}},{"$f":"IF(#REF!=20,21,0)","v":{"$error":"#REF!"}},{"$f":"IF(#REF!=21,20,0)","v":{"$error":"#REF!"}},{"$f":"IF(#REF!=22,19,0)","v":{"$error":"#REF!"}},{"$f":"IF(#REF!=23,18,0)","v":{"$error":"#REF!"}},{"$f":"IF(#REF!=24,17,0)","v":{"$error":"#REF!"}},{"$f":"IF(#REF!=25,16,0)","v":{"$error":"#REF!"}},{"$f":"IF(#REF!=26,15,0)","v":{"$error":"#REF!"}},{"$f":"IF(#REF!=27,14,0)","v":{"$error":"#REF!"}},{"$f":"IF(#REF!=28,13,0)","v":{"$error":"#REF!"}},{"$f":"IF(#REF!=29,12,0)","v":{"$error":"#REF!"}},{"$f":"IF(#REF!=30,11,0)","v":{"$error":"#REF!"}},{"$f":"IF(#REF!=31,10,0)","v":{"$error":"#REF!"}},{"$f":"IF(#REF!=32,9,0)","v":{"$error":"#REF!"}},{"$f":"IF(#REF!=33,8,0)","v":{"$error":"#REF!"}},{"$f":"IF(#REF!=34,7,0)","v":{"$error":"#REF!"}},{"$f":"IF(#REF!=35,6,0)","v":{"$error":"#REF!"}},{"$f":"IF(#REF!=36,5,0)","v":{"$error":"#REF!"}},{"$f":"IF(#REF!=37,4,0)","v":{"$error":"#REF!"}},{"$f":"IF(#REF!=38,3,0)","v":{"$error":"#REF!"}},{"$f":"IF(#REF!=39,2,0)","v":{"$error":"#REF!"}},{"$f":"IF(#REF!=40,1,0)","v":{"$error":"#REF!"}},{"$f":"IF(#REF!>20,0,0)","v":{"$error":"#REF!"}},{"$f":"IF(#REF!=\"сх\",0,0)","v":{"$error":"#REF!"}},{"$f":"SUM(CU44:EJ44)","v":{"$error":"#REF!"}},null,{"$f":"IF(#REF!=\"сх\",\"ноль\",IF(#REF!>0,#REF!,\"Ноль\"))","v":{"$error":"#REF!"}},{"$f":"IF(#REF!=\"сх\",\"ноль\",IF(#REF!>0,#REF!,\"Ноль\"))","v":{"$error":"#REF!"}},null,{"$f":"MIN(EM44,EN44)","v":{"$error":"#REF!"}},{"$f":"IF(F40=#REF!,IF(#REF!<#REF!,#REF!,EU44),#REF!)","v":{"$error":"#REF!"}},{"$f":"IF(F40=#REF!,IF(#REF!<#REF!,0,1))","v":{"$error":"#REF!"}},{"$f":"IF(AND(EP44>=21,EP44<>0),EP44,IF(F40<#REF!,\"СТОП\",EQ44+ER44))","v":{"$error":"#REF!"}},null,15,16,null,{"$f":"IF(#REF!=1,25,0)","v":{"$error":"#REF!"}},{"$f":"IF(#REF!=2,22,0)","v":{"$error":"#REF!"}},{"$f":"IF(#REF!=3,20,0)","v":{"$error":"#REF!"}},{"$f":"IF(#REF!=4,18,0)","v":{"$error":"#REF!"}},{"$f":"IF(#REF!=5,16,0)","v":{"$error":"#REF!"}},{"$f":"IF(#REF!=6,15,0)","v":{"$error":"#REF!"}},{"$f":"IF(#REF!=7,14,0)","v":{"$error":"#REF!"}},{"$f":"IF(#REF!=8,13,0)","v":{"$error":"#REF!"}},{"$f":"IF(#REF!=9,12,0)","v":{"$error":"#REF!"}},{"$f":"IF(#REF!=10,11,0)","v":{"$error":"#REF!"}},{"$f":"IF(#REF!=11,10,0)","v":{"$error":"#REF!"}},{"$f":"IF(#REF!=12,9,0)","v":{"$error":"#REF!"}},{"$f":"IF(#REF!=13,8,0)","v":{"$error":"#REF!"}},{"$f":"IF(#REF!=14,7,0)","v":{"$error":"#REF!"}},{"$f":"IF(#REF!=15,6,0)","v":{"$error":"#REF!"}},{"$f":"IF(#REF!=16,5,0)","v":{"$error":"#REF!"}},{"$f":"IF(#REF!=17,4,0)","v":{"$error":"#REF!"}},{"$f":"IF(#REF!=18,3,0)","v":{"$error":"#REF!"}},{"$f":"IF(#REF!=19,2,0)","v":{"$error":"#REF!"}},{"$f":"IF(#REF!=20,1,0)","v":{"$error":"#REF!"}},{"$f":"IF(#REF!>20,0,0)","v":{"$error":"#REF!"}},{"$f":"IF(#REF!=\"сх\",0,0)","v":{"$error":"#REF!"}},{"$f":"SUM(EX44:FS44)","v":{"$error":"#REF!"}},{"$f":"IF(#REF!=1,25,0)","v":{"$error":"#REF!"}},{"$f":"IF(#REF!=2,22,0)","v":{"$error":"#REF!"}},{"$f":"IF(#REF!=3,20,0)","v":{"$error":"#REF!"}},{"$f":"IF(#REF!=4,18,0)","v":{"$error":"#REF!"}},{"$f":"IF(#REF!=5,16,0)","v":{"$error":"#REF!"}},{"$f":"IF(#REF!=6,15,0)","v":{"$error":"#REF!"}},{"$f":"IF(#REF!=7,14,0)","v":{"$error":"#REF!"}},{"$f":"IF(#REF!=8,13,0)","v":{"$error":"#REF!"}},{"$f":"IF(#REF!=9,12,0)","v":{"$error":"#REF!"}},{"$f":"IF(#REF!=10,11,0)","v":{"$error":"#REF!"}},{"$f":"IF(#REF!=11,10,0)","v":{"$error":"#REF!"}},{"$f":"IF(#REF!=12,9,0)","v":{"$error":"#REF!"}},{"$f":"IF(#REF!=13,8,0)","v":{"$error":"#REF!"}},{"$f":"IF(#REF!=14,7,0)","v":{"$error":"#REF!"}},{"$f":"IF(#REF!=15,6,0)","v":{"$error":"#REF!"}},{"$f":"IF(#REF!=16,5,0)","v":{"$error":"#REF!"}},{"$f":"IF(#REF!=17,4,0)","v":{"$error":"#REF!"}},{"$f":"IF(#REF!=18,3,0)","v":{"$error":"#REF!"}},{"$f":"IF(#REF!=19,2,0)","v":{"$error":"#REF!"}},{"$f":"IF(#REF!=20,1,0)","v":{"$error":"#REF!"}},{"$f":"IF(#REF!>20,0,0)","v":{"$error":"#REF!"}},{"$f":"IF(#REF!=\"сх\",0,0)","v":{"$error":"#REF!"}},{"$f":"SUM(FU44:GP44)","v":{"$error":"#REF!"}},{"$f":"IF(#REF!=1,100,0)","v":{"$error":"#REF!"}},{"$f":"IF(#REF!=2,98,0)","v":{"$error":"#REF!"}},{"$f":"IF(#REF!=3,95,0)","v":{"$error":"#REF!"}},{"$f":"IF(#REF!=4,93,0)","v":{"$error":"#REF!"}},{"$f":"IF(#REF!=5,90,0)","v":{"$error":"#REF!"}},{"$f":"IF(#REF!=6,88,0)","v":{"$error":"#REF!"}},{"$f":"IF(#REF!=7,85,0)","v":{"$error":"#REF!"}},{"$f":"IF(#REF!=8,83,0)","v":{"$error":"#REF!"}},{"$f":"IF(#REF!=9,80,0)","v":{"$error":"#REF!"}},{"$f":"IF(#REF!=10,78,0)","v":{"$error":"#REF!"}},{"$f":"IF(#REF!=11,75,0)","v":{"$error":"#REF!"}},{"$f":"IF(#REF!=12,73,0)","v":{"$error":"#REF!"}},{"$f":"IF(#REF!=13,70,0)","v":{"$error":"#REF!"}},{"$f":"IF(#REF!=14,68,0)","v":{"$error":"#REF!"}},{"$f":"IF(#REF!=15,65,0)","v":{"$error":"#REF!"}},{"$f":"IF(#REF!=16,63,0)","v":{"$error":"#REF!"}},{"$f":"IF(#REF!=17,60,0)","v":{"$error":"#REF!"}},{"$f":"IF(#REF!=18,58,0)","v":{"$error":"#REF!"}},{"$f":"IF(#REF!=19,55,0)","v":{"$error":"#REF!"}},{"$f":"IF(#REF!=20,53,0)","v":{"$error":"#REF!"}},{"$f":"IF(#REF!>20,0,0)","v":{"$error":"#REF!"}},{"$f":"IF(#REF!=\"сх\",0,0)","v":{"$error":"#REF!"}},{"$f":"SUM(GR44:HM44)","v":{"$error":"#REF!"}},{"$f":"IF(#REF!=1,100,0)","v":{"$error":"#REF!"}},{"$f":"IF(#REF!=2,98,0)","v":{"$error":"#REF!"}},{"$f":"IF(#REF!=3,95,0)","v":{"$error":"#REF!"}},{"$f":"IF(#REF!=4,93,0)","v":{"$error":"#REF!"}},{"$f":"IF(#REF!=5,90,0)","v":{"$error":"#REF!"}},{"$f":"IF(#REF!=6,88,0)","v":{"$error":"#REF!"}},{"$f":"IF(#REF!=7,85,0)","v":{"$error":"#REF!"}},{"$f":"IF(#REF!=8,83,0)","v":{"$error":"#REF!"}},{"$f":"IF(#REF!=9,80,0)","v":{"$error":"#REF!"}},{"$f":"IF(#REF!=10,78,0)","v":{"$error":"#REF!"}},{"$f":"IF(#REF!=11,75,0)","v":{"$error":"#REF!"}},{"$f":"IF(#REF!=12,73,0)","v":{"$error":"#REF!"}},{"$f":"IF(#REF!=13,70,0)","v":{"$error":"#REF!"}},{"$f":"IF(#REF!=14,68,0)","v":{"$error":"#REF!"}},{"$f":"IF(#REF!=15,65,0)","v":{"$error":"#REF!"}},{"$f":"IF(#REF!=16,63,0)","v":{"$error":"#REF!"}},{"$f":"IF(#REF!=17,60,0)","v":{"$error":"#REF!"}},{"$f":"IF(#REF!=18,58,0)","v":{"$error":"#REF!"}},{"$f":"IF(#REF!=19,55,0)","v":{"$error":"#REF!"}},{"$f":"IF(#REF!=20,53,0)","v":{"$error":"#REF!"}},{"$f":"IF(#REF!>20,0,0)","v":{"$error":"#REF!"}},{"$f":"IF(#REF!=\"сх\",0,0)","v":{"$error":"#REF!"}},{"$f":"SUM(HO44:IJ44)","v":{"$error":"#REF!"}}]
[6,"г. Санкт-Петербург","Школа мотокросса\"SSMX TEAM 2\"",0,350,{"$f":"SUM(D45+E45)","v":350}]
[]
[]
[]
[]
[]
[7,"г. Санкт-Петербург","\"Viktoroffroad -2\"",334,0,334,{"$f":"#REF!+#REF!","v":{"$error":"#REF!"}},null,null,{"$f":"IF(#REF!=1,25,0)","v":{"$error":"#REF!"}},{"$f":"IF(#REF!=2,22,0)","v":{"$error":"#REF!"}},{"$f":"IF(#REF!=3,20,0)","v":{"$error":"#REF!"}},{"$f":"IF(#REF!=4,18,0)","v":{"$error":"#REF!"}},{"$f":"IF(#REF!=5,16,0)","v":{"$error":"#REF!"}},{"$f":"IF(#REF!=6,15,0)","v":{"$error":"#REF!"}},{"$f":"IF(#REF!=7,14,0)","v":{"$error":"#REF!"}},{"$f":"IF(#REF!=8,13,0)","v":{"$error":"#REF!"}},{"$f":"IF(#REF!=9,12,0)","v":{"$error":"#REF!"}},{"$f":"IF(#REF!=10,11,0)","v":{"$error":"#REF!"}},{"$f":"IF(#REF!=11,10,0)","v":{"$error":"#REF!"}},{"$f":"IF(#REF!=12,9,0)","v":{"$error":"#REF!"}},{"$f":"IF(#REF!=13,8,0)","v":{"$error":"#REF!"}},{"$f":"IF(#REF!=14,7,0)","v":{"$error":"#REF!"}},{"$f":"IF(#REF!=15,6,0)","v":{"$error":"#REF!"}},{"$f":"IF(#REF!=16,5,0)","v":{"$error":"#REF!"}},{"$f":"IF(#REF!=17,4,0)","v":{"$error":"#REF!"}},{"$f":"IF(#REF!=18,3,0)","v":{"$error":"#REF!"}},{"$f":"IF(#REF!=19,2,0)","v":{"$error":"#REF!"}},{"$f":"IF(#REF!=20,1,0)","v":{"$error":"#REF!"}},{"$f":"IF(#REF!>20,0,0)","v":{"$error":"#REF!"}},{"$f":"IF(#REF!=\"сх\",0,0)","v":{"$error":"#REF!"}},{"$f":"SUM(J51:AD51)","v":{"$error":"#REF!"}},{"$f":"IF(#REF!=1,25,0)","v":{"$error":"#REF!"}},{"$f":"IF(#REF!=2,22,0)","v":{"$error":"#REF!"}},{"$f":"IF(#REF!=3,20,0)","v":{"$error":"#REF!"}},{"$f":"IF(#REF!=4,18,0)","v":{"$error":"#REF!"}},{"$f":"IF(#REF!=5,16,0)","v":{"$error":"#REF!"}},{"$f":"IF(#REF!=6,15,0)","v":{"$error":"#REF!"}},{"$f":"IF(#REF!=7,14,0)","v":{"$error":"#REF!"}},{"$f":"IF(#REF!=8,13,0)","v":{"$error":"#REF!"}},{"$f":"IF(#REF!=9,12,0)","v":{"$error":"#REF!"}},{"$f":"IF(#REF!=10,11,0)","v":{"$error":"#REF!"}},{"$f":"IF(#REF!=11,10,0)","v":{"$error":"#REF!"}},{"$f":"IF(#REF!=12,9,0)","v":{"$error":"#REF!"}},{"$f":"IF(#REF!=13,8,0)","v":{"$error":"#REF!"}},{"$f":"IF(#REF!=14,7,0)","v":{"$error":"#REF!"}},{"$f":"IF(#REF!=15,6,0)","v":{"$error":"#REF!"}},{"$f":"IF(#REF!=16,5,0)","v":{"$error":"#REF!"}},{"$f":"IF(#REF!=17,4,0)","v":{"$error":"#REF!"}},{"$f":"IF(#REF!=18,3,0)","v":{"$error":"#REF!"}},{"$f":"IF(#REF!=19,2,0)","v":{"$error":"#REF!"}},{"$f":"IF(#REF!=20,1,0)","v":{"$error":"#REF!"}},{"$f":"IF(#REF!>20,0,0)","v":{"$error":"#REF!"}},{"$f":"IF(#REF!=\"сх\",0,0)","v":{"$error":"#REF!"}},{"$f":"SUM(AG51:BA51)","v":{"$error":"#REF!"}},{"$f":"IF(#REF!=1,45,0)","v":{"$error":"#REF!"}},{"$f":"IF(#REF!=2,42,0)","v":{"$error":"#REF!"}},{"$f":"IF(#REF!=3,40,0)","v":{"$error":"#REF!"}},{"$f":"IF(#REF!=4,38,0)","v":{"$error":"#REF!"}},{"$f":"IF(#REF!=5,36,0)","v":{"$error":"#REF!"}},{"$f":"IF(#REF!=6,35,0)","v":{"$error":"#REF!"}},{"$f":"IF(#REF!=7,34,0)","v":{"$error":"#REF!"}},{"$f":"IF(#REF!=8,33,0)","v":{"$error":"#REF!"}},{"$f":"IF(#REF!=9,32,0)","v":{"$error":"#REF!"}},{"$f":"IF(#REF!=10,31,0)","v":{"$error":"#REF!"}},{"$f":"IF(#REF!=11,30,0)","v":{"$error":"#REF!"}},{"$f":"IF(#REF!=12,29,0)","v":{"$error":"#REF!"}},{"$f":"IF(#REF!=13,28,0)","v":{"$error":"#REF!"}},{"$f":"IF(#REF!=14,27,0)","v":{"$error":"#REF!"}},{"$f":"IF(#REF!=15,26,0)","v":{"$error":"#REF!"}},{"$f":"IF(#REF!=16,25,0)","v":{"$error":"#REF!"}},{"$f":"IF(#REF!=17,24,0)","v":{"$error":"#REF!"}},{"$f":"IF(#REF!=18,23,0)","v":{"$error":"#REF!"}},{"$f":"IF(#REF!=19,22,0)","v":{"$error":"#REF!"}},{"$f":"IF(#REF!=20,21,0)","v":{"$error":"#REF!"}},{"$f":"IF(#REF!=21,20,0)","v":{"$error":"#REF!"}},{"$f":"IF(#REF!=22,19,0)","v":{"$error":"#REF!"}},{"$f":"IF(#REF!=23,18,0)","v":{"$error":"#REF!"}},{"$f":"IF(#REF!=24,17,0)","v":{"$error":"#REF!"}},{"$f":"IF(#REF!=25,16,0)","v":{"$error":"#REF!"}},{"$f":"IF(#REF!=26,15,0)","v":{"$error":"#REF!"}},{"$f":"IF(#REF!=27,14,0)","v":{"$error":"#REF!"}},{"$f":"IF(#REF!=28,13,0)","v":{"$error":"#REF!"}},{"$f":"IF(#REF!=29,12,0)","v":{"$error":"#REF!"}},{"$f":"IF(#REF!=30,11,0)","v":{"$error":"#REF!"}},{"$f":"IF(#REF!=31,10,0)","v":{"$error":"#REF!"}},{"$f":"IF(#REF!=32,9,0)","v":{"$error":"#REF!"}},{"$f":"IF(#REF!=33,8,0)","v":{"$error":"#REF!"}},{"$f":"IF(#REF!=34,7,0)","v":{"$error":"#REF!"}},{"$f":"IF(#REF!=35,6,0)","v":{"$error":"#REF!"}},{"$f":"IF(#REF!=36,5,0)","v":{"$error":"#REF!"}},{"$f":"IF(#REF!=37,4,0)","v":{"$error":"#REF!"}},{"$f":"IF(#REF!=38,3,0)","v":{"$error":"#REF!"}},{"$f":"IF(#REF!=39,2,0)","v":{"$error":"#REF!"}},{"$f":"IF(#REF!=40,1,0)","v":{"$error":"#REF!"}},{"$f":"IF(#REF!>20,0,0)","v":{"$error":"#REF!"}},{"$f":"IF(#REF!=\"сх\",0,0)","v":{"$error":"#REF!"}},{"$f":"SUM(BD51:CS51)","v":{"$error":"#REF!"}},{"$f":"IF(#REF!=1,45,0)","v":{"$error":"#REF!"}},{"$f":"IF(#REF!=2,42,0)","v":{"$error":"#REF!"}},{"$f":"IF(#REF!=3,40,0)","v":{"$error":"#REF!"}},{"$f":"IF(#REF!=4,38,0)","v":{"$error":"#REF!"}},{"$f":"IF(#REF!=5,36,0)","v":{"$error":"#REF!"}},{"$f":"IF(#REF!=6,35,0)","v":{"$error":"#REF!"}},{"$f":"IF(#REF!=7,34,0)","v":{"$error":"#REF!"}},{"$f":"IF(#REF!=8,33,0)","v":{"$error":"#REF!"}},{"$f":"IF(#REF!=9,32,0)","v":{"$error":"#REF!"}},{"$f":"IF(#REF!=10,31,0)","v":{"$error":"#REF!"}},{"$f":"IF(#REF!=11,30,0)","v":{"$error":"#REF!"}},{"$f":"IF(#REF!=12,29,0)","v":{"$error":"#REF!"}},{"$f":"IF(#REF!=13,28,0)","v":{"$error":"#REF!"}},{"$f":"IF(#REF!=14,27,0)","v":{"$error":"#REF!"}},{"$f":"IF(#REF!=15,26,0)","v":{"$error":"#REF!"}},{"$f":"IF(#REF!=16,25,0)","v":{"$error":"#REF!"}},{"$f":"IF(#REF!=17,24,0)","v":{"$error":"#REF!"}},{"$f":"IF(#REF!=18,23,0)","v":{"$error":"#REF!"}},{"$f":"IF(#REF!=19,22,0)","v":{"$error":"#REF!"}},{"$f":"IF(#REF!=20,21,0)","v":{"$error":"#REF!"}},{"$f":"IF(#REF!=21,20,0)","v":{"$error":"#REF!"}},{"$f":"IF(#REF!=22,19,0)","v":{"$error":"#REF!"}},{"$f":"IF(#REF!=23,18,0)","v":{"$error":"#REF!"}},{"$f":"IF(#REF!=24,17,0)","v":{"$error":"#REF!"}},{"$f":"IF(#REF!=25,16,0)","v":{"$error":"#REF!"}},{"$f":"IF(#REF!=26,15,0)","v":{"$error":"#REF!"}},{"$f":"IF(#REF!=27,14,0)","v":{"$error":"#REF!"}},{"$f":"IF(#REF!=28,13,0)","v":{"$error":"#REF!"}},{"$f":"IF(#REF!=29,12,0)","v":{"$error":"#REF!"}},{"$f":"IF(#REF!=30,11,0)","v":{"$error":"#REF!"}},{"$f":"IF(#REF!=31,10,0)","v":{"$error":"#REF!"}},{"$f":"IF(#REF!=32,9,0)","v":{"$error":"#REF!"}},{"$f":"IF(#REF!=33,8,0)","v":{"$error":"#REF!"}},{"$f":"IF(#REF!=34,7,0)","v":{"$error":"#REF!"}},{"$f":"IF(#REF!=35,6,0)","v":{"$error":"#REF!"}},{"$f":"IF(#REF!=36,5,0)","v":{"$error":"#REF!"}},{"$f":"IF(#REF!=37,4,0)","v":{"$error":"#REF!"}},{"$f":"IF(#REF!=38,3,0)","v":{"$error":"#REF!"}},{"$f":"IF(#REF!=39,2,0)","v":{"$error":"#REF!"}},{"$f":"IF(#REF!=40,1,0)","v":{"$error":"#REF!"}},{"$f":"IF(#REF!>20,0,0)","v":{"$error":"#REF!"}},{"$f":"IF(#REF!=\"сх\",0,0)","v":{"$error":"#REF!"}},{"$f":"SUM(CU51:EJ51)","v":{"$error":"#REF!"}},null,{"$f":"IF(#REF!=\"сх\",\"ноль\",IF(#REF!>0,#REF!,\"Ноль\"))","v":{"$error":"#REF!"}},{"$f":"IF(#REF!=\"сх\",\"ноль\",IF(#REF!>0,#REF!,\"Ноль\"))","v":{"$error":"#REF!"}},null,{"$f":"MIN(EM51,EN51)","v":{"$error":"#REF!"}},{"$f":"IF(F41=#REF!,IF(#REF!<#REF!,#REF!,EU51),#REF!)","v":{"$error":"#REF!"}},{"$f":"IF(F41=#REF!,IF(#REF!<#REF!,0,1))","v":{"$error":"#REF!"}},{"$f":"IF(AND(EP51>=21,EP51<>0),EP51,IF(F41<#REF!,\"СТОП\",EQ51+ER51))","v":{"$error":"#REF!"}},null,15,16,null,{"$f":"IF(#REF!=1,25,0)","v":{"$error":"#REF!"}},{"$f":"IF(#REF!=2,22,0)","v":{"$error":"#REF!"}},{"$f":"IF(#REF!=3,20,0)","v":{"$error":"#REF!"}},{"$f":"IF(#REF!=4,18,0)","v":{"$error":"#REF!"}},{"$f":"IF(#REF!=5,16,0)","v":{"$error":"#REF!"}},{"$f":"IF(#REF!=6,15,0)","v":{"$error":"#REF!"}},{"$f":"IF(#REF!=7,14,0)","v":{"$error":"#REF!"}},{"$f":"IF(#REF!=8,13,0)","v":{"$error":"#REF!"}},{"$f":"IF(#REF!=9,12,0)","v":{"$error":"#REF!"}},{"$f":"IF(#REF!=10,11,0)","v":{"$error":"#REF!"}},{"$f":"IF(#REF!=11,10,0)","v":{"$error":"#REF!"}},{"$f":"IF(#REF!=12,9,0)","v":{"$error":"#REF!"}},{"$f":"IF(#REF!=13,8,0)","v":{"$error":"#REF!"}},{"$f":"IF(#REF!=14,7,0)","v":{"$error":"#REF!"}},{"$f":"IF(#REF!=15,6,0)","v":{"$error":"#REF!"}},{"$f":"IF(#REF!=16,5,0)","v":{"$error":"#REF!"}},{"$f":"IF(#REF!=17,4,0)","v":{"$error":"#REF!"}},{"$f":"IF(#REF!=18,3,0)","v":{"$error":"#REF!"}},{"$f":"IF(#REF!=19,2,0)","v":{"$error":"#REF!"}},{"$f":"IF(#REF!=20,1,0)","v":{"$error":"#REF!"}},{"$f":"IF(#REF!>20,0,0)","v":{"$error":"#REF!"}},{"$f":"IF(#REF!=\"сх\",0,0)","v":{"$error":"#REF!"}},{"$f":"SUM(EX51:FS51)","v":{"$error":"#REF!"}},{"$f":"IF(#REF!=1,25,0)","v":{"$error":"#REF!"}},{"$f":"IF(#REF!=2,22,0)","v":{"$error":"#REF!"}},{"$f":"IF(#REF!=3,20,0)","v":{"$error":"#REF!"}},{"$f":"IF(#REF!=4,18,0)","v":{"$error":"#REF!"}},{"$f":"IF(#REF!=5,16,0)","v":{"$error":"#REF!"}},{"$f":"IF(#REF!=6,15,0)","v":{"$error":"#REF!"}},{"$f":"IF(#REF!=7,14,0)","v":{"$error":"#REF!"}},{"$f":"IF(#REF!=8,13,0)","v":{"$error":"#REF!"}},{"$f":"IF(#REF!=9,12,0)","v":{"$error":"#REF!"}},{"$f":"IF(#REF!=10,11,0)","v":{"$error":"#REF!"}},{"$f":"IF(#REF!=11,10,0)","v":{"$error":"#REF!"}},{"$f":"IF(#REF!=12,9,0)","v":{"$error":"#REF!"}},{"$f":"IF(#REF!=13,8,0)","v":{"$error":"#REF!"}},{"$f":"IF(#REF!=14,7,0)","v":{"$error":"#REF!"}},{"$f":"IF(#REF!=15,6,0)","v":{"$error":"#REF!"}},{"$f":"IF(#REF!=16,5,0)","v":{"$error":"#REF!"}},{"$f":"IF(#REF!=17,4,0)","v":{"$error":"#REF!"}},{"$f":"IF(#REF!=18,3,0)","v":{"$error":"#REF!"}},{"$f":"IF(#REF!=19,2,0)","v":{"$error":"#REF!"}},{"$f":"IF(#REF!=20,1,0)","v":{"$error":"#REF!"}},{"$f":"IF(#REF!>20,0,0)","v":{"$error":"#REF!"}},{"$f":"IF(#REF!=\"сх\",0,0)","v":{"$error":"#REF!"}},{"$f":"SUM(FU51:GP51)","v":{"$error":"#REF!"}},{"$f":"IF(#REF!=1,100,0)","v":{"$error":"#REF!"}},{"$f":"IF(#REF!=2,98,0)","v":{"$error":"#REF!"}},{"$f":"IF(#REF!=3,95,0)","v":{"$error":"#REF!"}},{"$f":"IF(#REF!=4,93,0)","v":{"$error":"#REF!"}},{"$f":"IF(#REF!=5,90,0)","v":{"$error":"#REF!"}},{"$f":"IF(#REF!=6,88,0)","v":{"$error":"#REF!"}},{"$f":"IF(#REF!=7,85,0)","v":{"$error":"#REF!"}},{"$f":"IF(#REF!=8,83,0)","v":{"$error":"#REF!"}},{"$f":"IF(#REF!=9,80,0)","v":{"$error":"#REF!"}},{"$f":"IF(#REF!=10,78,0)","v":{"$error":"#REF!"}},{"$f":"IF(#REF!=11,75,0)","v":{"$error":"#REF!"}},{"$f":"IF(#REF!=12,73,0)","v":{"$error":"#REF!"}},{"$f":"IF(#REF!=13,70,0)","v":{"$error":"#REF!"}},{"$f":"IF(#REF!=14,68,0)","v":{"$error":"#REF!"}},{"$f":"IF(#REF!=15,65,0)","v":{"$error":"#REF!"}},{"$f":"IF(#REF!=16,63,0)","v":{"$error":"#REF!"}},{"$f":"IF(#REF!=17,60,0)","v":{"$error":"#REF!"}},{"$f":"IF(#REF!=18,58,0)","v":{"$error":"#REF!"}},{"$f":"IF(#REF!=19,55,0)","v":{"$error":"#REF!"}},{"$f":"IF(#REF!=20,53,0)","v":{"$error":"#REF!"}},{"$f":"IF(#REF!>20,0,0)","v":{"$error":"#REF!"}},{"$f":"IF(#REF!=\"сх\",0,0)","v":{"$error":"#REF!"}},{"$f":"SUM(GR51:HM51)","v":{"$error":"#REF!"}},{"$f":"IF(#REF!=1,100,0)","v":{"$error":"#REF!"}},{"$f":"IF(#REF!=2,98,0)","v":{"$error":"#REF!"}},{"$f":"IF(#REF!=3,95,0)","v":{"$error":"#REF!"}},{"$f":"IF(#REF!=4,93,0)","v":{"$error":"#REF!"}},{"$f":"IF(#REF!=5,90,0)","v":{"$error":"#REF!"}},{"$f":"IF(#REF!=6,88,0)","v":{"$error":"#REF!"}},{"$f":"IF(#REF!=7,85,0)","v":{"$error":"#REF!"}},{"$f":"IF(#REF!=8,83,0)","v":{"$error":"#REF!"}},{"$f":"IF(#REF!=9,80,0)","v":{"$error":"#REF!"}},{"$f":"IF(#REF!=10,78,0)","v":{"$error":"#REF!"}},{"$f":"IF(#REF!=11,75,0)","v":{"$error":"#REF!"}},{"$f":"IF(#REF!=12,73,0)","v":{"$error":"#REF!"}},{"$f":"IF(#REF!=13,70,0)","v":{"$error":"#REF!"}},{"$f":"IF(#REF!=14,68,0)","v":{"$error":"#REF!"}},{"$f":"IF(#REF!=15,65,0)","v":{"$error":"#REF!"}},{"$f":"IF(#REF!=16,63,0)","v":{"$error":"#REF!"}},{"$f":"IF(#REF!=17,60,0)","v":{"$error":"#REF!"}},{"$f":"IF(#REF!=18,58,0)","v":{"$error":"#REF!"}},{"$f":"IF(#REF!=19,55,0)","v":{"$error":"#REF!"}},{"$f":"IF(#REF!=20,53,0)","v":{"$error":"#REF!"}},{"$f":"IF(#REF!>20,0,0)","v":{"$error":"#REF!"}},{"$f":"IF(#REF!=\"сх\",0,0)","v":{"$error":"#REF!"}},{"$f":"SUM(HO51:IJ51)","v":{"$error":"#REF!"}}]
[null,null,null,null,null,null,{"$f":"#REF!+#REF!","v":{"$error":"#REF!"}},null,null,{"$f":"IF(#REF!=1,25,0)","v":{"$error":"#REF!"}},{"$f":"IF(#REF!=2,22,0)","v":{"$error":"#REF!"}},{"$f":"IF(#REF!=3,20,0)","v":{"$error":"#REF!"}},{"$f":"IF(#REF!=4,18,0)","v":{"$error":"#REF!"}},{"$f":"IF(#REF!=5,16,0)","v":{"$error":"#REF!"}},{"$f":"IF(#REF!=6,15,0)","v":{"$error":"#REF!"}},{"$f":"IF(#REF!=7,14,0)","v":{"$error":"#REF!"}},{"$f":"IF(#REF!=8,13,0)","v":{"$error":"#REF!"}},{"$f":"IF(#REF!=9,12,0)","v":{"$error":"#REF!"}},{"$f":"IF(#REF!=10,11,0)","v":{"$error":"#REF!"}},{"$f":"IF(#REF!=11,10,0)","v":{"$error":"#REF!"}},{"$f":"IF(#REF!=12,9,0)","v":{"$error":"#REF!"}},{"$f":"IF(#REF!=13,8,0)","v":{"$error":"#REF!"}},{"$f":"IF(#REF!=14,7,0)","v":{"$error":"#REF!"}},{"$f":"IF(#REF!=15,6,0)","v":{"$error":"#REF!"}},{"$f":"IF(#REF!=16,5,0)","v":{"$error":"#REF!"}},{"$f":"IF(#REF!=17,4,0)","v":{"$error":"#REF!"}},{"$f":"IF(#REF!=18,3,0)","v":{"$error":"#REF!"}},{"$f":"IF(#REF!=19,2,0)","v":{"$error":"#REF!"}},{"$f":"IF(#REF!=20,1,0)","v":{"$error":"#REF!"}},{"$f":"IF(#REF!>20,0,0)","v":{"$error":"#REF!"}},{"$f":"IF(#REF!=\"сх\",0,0)","v":{"$error":"#REF!"}},{"$f":"SUM(J52:AD52)","v":{"$error":"#REF!"}},{"$f":"IF(#REF!=1,25,0)","v":{"$error":"#REF!"}},{"$f":"IF(#REF!=2,22,0)","v":{"$error":"#REF!"}},{"$f":"IF(#REF!=3,20,0)","v":{"$error":"#REF!"}},{"$f":"IF(#REF!=4,18,0)","v":{"$error":"#REF!"}},{"$f":"IF(#REF!=5,16,0)","v":{"$error":"#REF!"}},{"$f":"IF(#REF!=6,15,0)","v":{"$error":"#REF!"}},{"$f":"IF(#REF!=7,14,0)","v":{"$error":"#REF!"}},{"$f":"IF(#REF!=8,13,0)","v":{"$error":"#REF!"}},{"$f":"IF(#REF!=9,12,0)","v":{"$error":"#REF!"}},{"$f":"IF(#REF!=10,11,0)","v":{"$error":"#REF!"}},{"$f":"IF(#REF!=11,10,0)","v":{"$error":"#REF!"}},{"$f":"IF(#REF!=12,9,0)","v":{"$error":"#REF!"}},{"$f":"IF(#REF!=13,8,0)","v":{"$error":"#REF!"}},{"$f":"IF(#REF!=14,7,0)","v":{"$error":"#REF!"}},{"$f":"IF(#REF!=15,6,0)","v":{"$error":"#REF!"}},{"$f":"IF(#REF!=16,5,0)","v":{"$error":"#REF!"}},{"$f":"IF(#REF!=17,4,0)","v":{"$error":"#REF!"}},{"$f":"IF(#REF!=18,3,0)","v":{"$error":"#REF!"}},{"$f":"IF(#REF!=19,2,0)","v":{"$error":"#REF!"}},{"$f":"IF(#REF!=20,1,0)","v":{"$error":"#REF!"}},{"$f":"IF(#REF!>20,0,0)","v":{"$error":"#REF!"}},{"$f":"IF(#REF!=\"сх\",0,0)","v":{"$error":"#REF!"}},{"$f":"SUM(AG52:BA52)","v":{"$error":"#REF!"}},{"$f":"IF(#REF!=1,45,0)","v":{"$error":"#REF!"}},{"$f":"IF(#REF!=2,42,0)","v":{"$error":"#REF!"}},{"$f":"IF(#REF!=3,40,0)","v":{"$error":"#REF!"}},{"$f":"IF(#REF!=4,38,0)","v":{"$error":"#REF!"}},{"$f":"IF(#REF!=5,36,0)","v":{"$error":"#REF!"}},{"$f":"IF(#REF!=6,35,0)","v":{"$error":"#REF!"}},{"$f":"IF(#REF!=7,34,0)","v":{"$error":"#REF!"}},{"$f":"IF(#REF!=8,33,0)","v":{"$error":"#REF!"}},{"$f":"IF(#REF!=9,32,0)","v":{"$error":"#REF!"}},{"$f":"IF(#REF!=10,31,0)","v":{"$error":"#REF!"}},{"$f":"IF(#REF!=11,30,0)","v":{"$error":"#REF!"}},{"$f":"IF(#REF!=12,29,0)","v":{"$error":"#REF!"}},{"$f":"IF(#REF!=13,28,0)","v":{"$error":"#REF!"}},{"$f":"IF(#REF!=14,27,0)","v":{"$error":"#REF!"}},{"$f":"IF(#REF!=15,26,0)","v":{"$error":"#REF!"}},{"$f":"IF(#REF!=16,25,0)","v":{"$error":"#REF!"}},{"$f":"IF(#REF!=17,24,0)","v":{"$error":"#REF!"}},{"$f":"IF(#REF!=18,23,0)","v":{"$error":"#REF!"}},{"$f":"IF(#REF!=19,22,0)","v":{"$error":"#REF!"}},{"$f":"IF(#REF!=20,21,0)","v":{"$error":"#REF!"}},{"$f":"IF(#REF!=21,20,0)","v":{"$error":"#REF!"}},{"$f":"IF(#REF!=22,19,0)","v":{"$error":"#REF!"}},{"$f":"IF(#REF!=23,18,0)","v":{"$error":"#REF!"}},{"$f":"IF(#REF!=24,17,0)","v":{"$error":"#REF!"}},{"$f":"IF(#REF!=25,16,0)","v":{"$error":"#REF!"}},{"$f":"IF(#REF!=26,15,0)","v":{"$error":"#REF!"}},{"$f":"IF(#REF!=27,14,0)","v":{"$error":"#REF!"}},{"$f":"IF(#REF!=28,13,0)","v":{"$error":"#REF!"}},{"$f":"IF(#REF!=29,12,0)","v":{"$error":"#REF!"}},{"$f":"IF(#REF!=30,11,0)","v":{"$error":"#REF!"}},{"$f":"IF(#REF!=31,10,0)","v":{"$error":"#REF!"}},{"$f":"IF(#REF!=32,9,0)","v":{"$error":"#REF!"}},{"$f":"IF(#REF!=33,8,0)","v":{"$error":"#REF!"}},{"$f":"IF(#REF!=34,7,0)","v":{"$error":"#REF!"}},{"$f":"IF(#REF!=35,6,0)","v":{"$error":"#REF!"}},{"$f":"IF(#REF!=36,5,0)","v":{"$error":"#REF!"}},{"$f":"IF(#REF!=37,4,0)","v":{"$error":"#REF!"}},{"$f":"IF(#REF!=38,3,0)","v":{"$error":"#REF!"}},{"$f":"IF(#REF!=39,2,0)","v":{"$error":"#REF!"}},{"$f":"IF(#REF!=40,1,0)","v":{"$error":"#REF!"}},{"$f":"IF(#REF!>20,0,0)","v":{"$error":"#REF!"}},{"$f":"IF(#REF!=\"сх\",0,0)","v":{"$error":"#REF!"}},{"$f":"SUM(BD52:CS52)","v":{"$error":"#REF!"}},{"$f":"IF(#REF!=1,45,0)","v":{"$error":"#REF!"}},{"$f":"IF(#REF!=2,42,0)","v":{"$error":"#REF!"}},{"$f":"IF(#REF!=3,40,0)","v":{"$error":"#REF!"}},{"$f":"IF(#REF!=4,38,0)","v":{"$error":"#REF!"}},{"$f":"IF(#REF!=5,36,0)","v":{"$error":"#REF!"}},{"$f":"IF(#REF!=6,35,0)","v":{"$error":"#REF!"}},{"$f":"IF(#REF!=7,34,0)","v":{"$error":"#REF!"}},{"$f":"IF(#REF!=8,33,0)","v":{"$error":"#REF!"}},{"$f":"IF(#REF!=9,32,0)","v":{"$error":"#REF!"}},{"$f":"IF(#REF!=10,31,0)","v":{"$error":"#REF!"}},{"$f":"IF(#REF!=11,30,0)","v":{"$error":"#REF!"}},{"$f":"IF(#REF!=12,29,0)","v":{"$error":"#REF!"}},{"$f":"IF(#REF!=13,28,0)","v":{"$error":"#REF!"}},{"$f":"IF(#REF!=14,27,0)","v":{"$error":"#REF!"}},{"$f":"IF(#REF!=15,26,0)","v":{"$error":"#REF!"}},{"$f":"IF(#REF!=16,25,0)","v":{"$error":"#REF!"}},{"$f":"IF(#REF!=17,24,0)","v":{"$error":"#REF!"}},{"$f":"IF(#REF!=18,23,0)","v":{"$error":"#REF!"}},{"$f":"IF(#REF!=19,22,0)","v":{"$error":"#REF!"}},{"$f":"IF(#REF!=20,21,0)","v":{"$error":"#REF!"}},{"$f":"IF(#REF!=21,20,0)","v":{"$error":"#REF!"}},{"$f":"IF(#REF!=22,19,0)","v":{"$error":"#REF!"}},{"$f":"IF(#REF!=23,18,0)","v":{"$error":"#REF!"}},{"$f":"IF(#REF!=24,17,0)","v":{"$error":"#REF!"}},{"$f":"IF(#REF!=25,16,0)","v":{"$error":"#REF!"}},{"$f":"IF(#REF!=26,15,0)","v":{"$error":"#REF!"}},{"$f":"IF(#REF!=27,14,0)","v":{"$error":"#REF!"}},{"$f":"IF(#REF!=28,13,0)","v":{"$error":"#REF!"}},{"$f":"IF(#REF!=29,12,0)","v":{"$error":"#REF!"}},{"$f":"IF(#REF!=30,11,0)","v":{"$error":"#REF!"}},{"$f":"IF(#REF!=31,10,0)","v":{"$error":"#REF!"}},{"$f":"IF(#REF!=32,9,0)","v":{"$error":"#REF!"}},{"$f":"IF(#REF!=33,8,0)","v":{"$error":"#REF!"}},{"$f":"IF(#REF!=34,7,0)","v":{"$error":"#REF!"}},{"$f":"IF(#REF!=35,6,0)","v":{"$error":"#REF!"}},{"$f":"IF(#REF!=36,5,0)","v":{"$error":"#REF!"}},{"$f":"IF(#REF!=37,4,0)","v":{"$error":"#REF!"}},{"$f":"IF(#REF!=38,3,0)","v":{"$error":"#REF!"}},{"$f":"IF(#REF!=39,2,0)","v":{"$error":"#REF!"}},{"$f":"IF(#REF!=40,1,0)","v":{"$error":"#REF!"}},{"$f":"IF(#REF!>20,0,0)","v":{"$error":"#REF!"}},{"$f":"IF(#REF!=\"сх\",0,0)","v":{"$error":"#REF!"}},{"$f":"SUM(CU52:EJ52)","v":{"$error":"#REF!"}},null,{"$f":"IF(#REF!=\"сх\",\"ноль\",IF(#REF!>0,#REF!,\"Ноль\"))","v":{"$error":"#REF!"}},{"$f":"IF(#REF!=\"сх\",\"ноль\",IF(#REF!>0,#REF!,\"Ноль\"))","v":{"$error":"#REF!"}},null,{"$f":"MIN(EM52,EN52)","v":{"$error":"#REF!"}},{"$f":"IF(F42=#REF!,IF(#REF!<#REF!,#REF!,EU52),#REF!)","v":{"$error":"#REF!"}},{"$f":"IF(F42=#REF!,IF(#REF!<#REF!,0,1))","v":{"$error":"#REF!"}},{"$f":"IF(AND(EP52>=21,EP52<>0),EP52,IF(F42<#REF!,\"СТОП\",EQ52+ER52))","v":{"$error":"#REF!"}},null,15,16,null,{"$f":"IF(#REF!=1,25,0)","v":{"$error":"#REF!"}},{"$f":"IF(#REF!=2,22,0)","v":{"$error":"#REF!"}},{"$f":"IF(#REF!=3,20,0)","v":{"$error":"#REF!"}},{"$f":"IF(#REF!=4,18,0)","v":{"$error":"#REF!"}},{"$f":"IF(#REF!=5,16,0)","v":{"$error":"#REF!"}},{"$f":"IF(#REF!=6,15,0)","v":{"$error":"#REF!"}},{"$f":"IF(#REF!=7,14,0)","v":{"$error":"#REF!"}},{"$f":"IF(#REF!=8,13,0)","v":{"$error":"#REF!"}},{"$f":"IF(#REF!=9,12,0)","v":{"$error":"#REF!"}},{"$f":"IF(#REF!=10,11,0)","v":{"$error":"#REF!"}},{"$f":"IF(#REF!=11,10,0)","v":{"$error":"#REF!"}},{"$f":"IF(#REF!=12,9,0)","v":{"$error":"#REF!"}},{"$f":"IF(#REF!=13,8,0)","v":{"$error":"#REF!"}},{"$f":"IF(#REF!=14,7,0)","v":{"$error":"#REF!"}},{"$f":"IF(#REF!=15,6,0)","v":{"$error":"#REF!"}},{"$f":"IF(#REF!=16,5,0)","v":{"$error":"#REF!"}},{"$f":"IF(#REF!=17,4,0)","v":{"$error":"#REF!"}},{"$f":"IF(#REF!=18,3,0)","v":{"$error":"#REF!"}},{"$f":"IF(#REF!=19,2,0)","v":{"$error":"#REF!"}},{"$f":"IF(#REF!=20,1,0)","v":{"$error":"#REF!"}},{"$f":"IF(#REF!>20,0,0)","v":{"$error":"#REF!"}},{"$f":"IF(#REF!=\"сх\",0,0)","v":{"$error":"#REF!"}},{"$f":"SUM(EX52:FS52)","v":{"$error":"#REF!"}},{"$f":"IF(#REF!=1,25,0)","v":{"$error":"#REF!"}},{"$f":"IF(#REF!=2,22,0)","v":{"$error":"#REF!"}},{"$f":"IF(#REF!=3,20,0)","v":{"$error":"#REF!"}},{"$f":"IF(#REF!=4,18,0)","v":{"$error":"#REF!"}},{"$f":"IF(#REF!=5,16,0)","v":{"$error":"#REF!"}},{"$f":"IF(#REF!=6,15,0)","v":{"$error":"#REF!"}},{"$f":"IF(#REF!=7,14,0)","v":{"$error":"#REF!"}},{"$f":"IF(#REF!=8,13,0)","v":{"$error":"#REF!"}},{"$f":"IF(#REF!=9,12,0)","v":{"$error":"#REF!"}},{"$f":"IF(#REF!=10,11,0)","v":{"$error":"#REF!"}},{"$f":"IF(#REF!=11,10,0)","v":{"$error":"#REF!"}},{"$f":"IF(#REF!=12,9,0)","v":{"$error":"#REF!"}},{"$f":"IF(#REF!=13,8,0)","v":{"$error":"#REF!"}},{"$f":"IF(#REF!=14,7,0)","v":{"$error":"#REF!"}},{"$f":"IF(#REF!=15,6,0)","v":{"$error":"#REF!"}},{"$f":"IF(#REF!=16,5,0)","v":{"$error":"#REF!"}},{"$f":"IF(#REF!=17,4,0)","v":{"$error":"#REF!"}},{"$f":"IF(#REF!=18,3,0)","v":{"$error":"#REF!"}},{"$f":"IF(#REF!=19,2,0)","v":{"$error":"#REF!"}},{"$f":"IF(#REF!=20,1,0)","v":{"$error":"#REF!"}},{"$f":"IF(#REF!>20,0,0)","v":{"$error":"#REF!"}},{"$f":"IF(#REF!=\"сх\",0,0)","v":{"$error":"#REF!"}},{"$f":"SUM(FU52:GP52)","v":{"$error":"#REF!"}},{"$f":"IF(#REF!=1,100,0)","v":{"$error":"#REF!"}},{"$f":"IF(#REF!=2,98,0)","v":{"$error":"#REF!"}},{"$f":"IF(#REF!=3,95,0)","v":{"$error":"#REF!"}},{"$f":"IF(#REF!=4,93,0)","v":{"$error":"#REF!"}},{"$f":"IF(#REF!=5,90,0)","v":{"$error":"#REF!"}},{"$f":"IF(#REF!=6,88,0)","v":{"$error":"#REF!"}},{"$f":"IF(#REF!=7,85,0)","v":{"$error":"#REF!"}},{"$f":"IF(#REF!=8,83,0)","v":{"$error":"#REF!"}},{"$f":"IF(#REF!=9,80,0)","v":{"$error":"#REF!"}},{"$f":"IF(#REF!=10,78,0)","v":{"$error":"#REF!"}},{"$f":"IF(#REF!=11,75,0)","v":{"$error":"#REF!"}},{"$f":"IF(#REF!=12,73,0)","v":{"$error":"#REF!"}},{"$f":"IF(#REF!=13,70,0)","v":{"$error":"#REF!"}},{"$f":"IF(#REF!=14,68,0)","v":{"$error":"#REF!"}},{"$f":"IF(#REF!=15,65,0)","v":{"$error":"#REF!"}},{"$f":"IF(#REF!=16,63,0)","v":{"$error":"#REF!"}},{"$f":"IF(#REF!=17,60,0)","v":{"$error":"#REF!"}},{"$f":"IF(#REF!=18,58,0)","v":{"$error":"#REF!"}},{"$f":"IF(#REF!=19,55,0)","v":{"$error":"#REF!"}},{"$f":"IF(#REF!=20,53,0)","v":{"$error":"#REF!"}},{"$f":"IF(#REF!>20,0,0)","v":{"$error":"#REF!"}},{"$f":"IF(#REF!=\"сх\",0,0)","v":{"$error":"#REF!"}},{"$f":"SUM(GR52:HM52)","v":{"$error":"#REF!"}},{"$f":"IF(#REF!=1,100,0)","v":{"$error":"#REF!"}},{"$f":"IF(#REF!=2,98,0)","v":{"$error":"#REF!"}},{"$f":"IF(#REF!=3,95,0)","v":{"$error":"#REF!"}},{"$f":"IF(#REF!=4,93,0)","v":{"$error":"#REF!"}},{"$f":"IF(#REF!=5,90,0)","v":{"$error":"#REF!"}},{"$f":"IF(#REF!=6,88,0)","v":{"$error":"#REF!"}},{"$f":"IF(#REF!=7,85,0)","v":{"$error":"#REF!"}},{"$f":"IF(#REF!=8,83,0)","v":{"$error":"#REF!"}},{"$f":"IF(#REF!=9,80,0)","v":{"$error":"#REF!"}},{"$f":"IF(#REF!=10,78,0)","v":{"$error":"#REF!"}},{"$f":"IF(#REF!=11,75,0)","v":{"$error":"#REF!"}},{"$f":"IF(#REF!=12,73,0)","v":{"$error":"#REF!"}},{"$f":"IF(#REF!=13,70,0)","v":{"$error":"#REF!"}},{"$f":"IF(#REF!=14,68,0)","v":{"$error":"#REF!"}},{"$f":"IF(#REF!=15,65,0)","v":{"$error":"#REF!"}},{"$f":"IF(#REF!=16,63,0)","v":{"$error":"#REF!"}},{"$f":"IF(#REF!=17,60,0)","v":{"$error":"#REF!"}},{"$f":"IF(#REF!=18,58,0)","v":{"$error":"#REF!"}},{"$f":"IF(#REF!=19,55,0)","v":{"$error":"#REF!"}},{"$f":"IF(#REF!=20,53,0)","v":{"$error":"#REF!"}},{"$f":"IF(#REF!>20,0,0)","v":{"$error":"#REF!"}},{"$f":"IF(#REF!=\"сх\",0,0)","v":{"$error":"#REF!"}},{"$f":"SUM(HO52:IJ52)","v":{"$error":"#REF!"}}]
[null,null,null,null,null,null,{"$f":"#REF!+#REF!","v":{"$error":"#REF!"}},null,null,{"$f":"IF(#REF!=1,25,0)","v":{"$error":"#REF!"}},{"$f":"IF(#REF!=2,22,0)","v":{"$error":"#REF!"}},{"$f":"IF(#REF!=3,20,0)","v":{"$error":"#REF!"}},{"$f":"IF(#REF!=4,18,0)","v":{"$error":"#REF!"}},{"$f":"IF(#REF!=5,16,0)","v":{"$error":"#REF!"}},{"$f":"IF(#REF!=6,15,0)","v":{"$error":"#REF!"}},{"$f":"IF(#REF!=7,14,0)","v":{"$error":"#REF!"}},{"$f":"IF(#REF!=8,13,0)","v":{"$error":"#REF!"}},{"$f":"IF(#REF!=9,12,0)","v":{"$error":"#REF!"}},{"$f":"IF(#REF!=10,11,0)","v":{"$error":"#REF!"}},{"$f":"IF(#REF!=11,10,0)","v":{"$error":"#REF!"}},{"$f":"IF(#REF!=12,9,0)","v":{"$error":"#REF!"}},{"$f":"IF(#REF!=13,8,0)","v":{"$error":"#REF!"}},{"$f":"IF(#REF!=14,7,0)","v":{"$error":"#REF!"}},{"$f":"IF(#REF!=15,6,0)","v":{"$error":"#REF!"}},{"$f":"IF(#REF!=16,5,0)","v":{"$error":"#REF!"}},{"$f":"IF(#REF!=17,4,0)","v":{"$error":"#REF!"}},{"$f":"IF(#REF!=18,3,0)","v":{"$error":"#REF!"}},{"$f":"IF(#REF!=19,2,0)","v":{"$error":"#REF!"}},{"$f":"IF(#REF!=20,1,0)","v":{"$error":"#REF!"}},{"$f":"IF(#REF!>20,0,0)","v":{"$error":"#REF!"}},{"$f":"IF(#REF!=\"сх\",0,0)","v":{"$error":"#REF!"}},{"$f":"SUM(J53:AD53)","v":{"$error":"#REF!"}},{"$f":"IF(#REF!=1,25,0)","v":{"$error":"#REF!"}},{"$f":"IF(#REF!=2,22,0)","v":{"$error":"#REF!"}},{"$f":"IF(#REF!=3,20,0)","v":{"$error":"#REF!"}},{"$f":"IF(#REF!=4,18,0)","v":{"$error":"#REF!"}},{"$f":"IF(#REF!=5,16,0)","v":{"$error":"#REF!"}},{"$f":"IF(#REF!=6,15,0)","v":{"$error":"#REF!"}},{"$f":"IF(#REF!=7,14,0)","v":{"$error":"#REF!"}},{"$f":"IF(#REF!=8,13,0)","v":{"$error":"#REF!"}},{"$f":"IF(#REF!=9,12,0)","v":{"$error":"#REF!"}},{"$f":"IF(#REF!=10,11,0)","v":{"$error":"#REF!"}},{"$f":"IF(#REF!=11,10,0)","v":{"$error":"#REF!"}},{"$f":"IF(#REF!=12,9,0)","v":{"$error":"#REF!"}},{"$f":"IF(#REF!=13,8,0)","v":{"$error":"#REF!"}},{"$f":"IF(#REF!=14,7,0)","v":{"$error":"#REF!"}},{"$f":"IF(#REF!=15,6,0)","v":{"$error":"#REF!"}},{"$f":"IF(#REF!=16,5,0)","v":{"$error":"#REF!"}},{"$f":"IF(#REF!=17,4,0)","v":{"$error":"#REF!"}},{"$f":"IF(#REF!=18,3,0)","v":{"$error":"#REF!"}},{"$f":"IF(#REF!=19,2,0)","v":{"$error":"#REF!"}},{"$f":"IF(#REF!=20,1,0)","v":{"$error":"#REF!"}},{"$f":"IF(#REF!>20,0,0)","v":{"$error":"#REF!"}},{"$f":"IF(#REF!=\"сх\",0,0)","v":{"$error":"#REF!"}},{"$f":"SUM(AG53:BA53)","v":{"$error":"#REF!"}},{"$f":"IF(#REF!=1,45,0)","v":{"$error":"#REF!"}},{"$f":"IF(#REF!=2,42,0)","v":{"$error":"#REF!"}},{"$f":"IF(#REF!=3,40,0)","v":{"$error":"#REF!"}},{"$f":"IF(#REF!=4,38,0)","v":{"$error":"#REF!"}},{"$f":"IF(#REF!=5,36,0)","v":{"$error":"#REF!"}},{"$f":"IF(#REF!=6,35,0)","v":{"$error":"#REF!"}},{"$f":"IF(#REF!=7,34,0)","v":{"$error":"#REF!"}},{"$f":"IF(#REF!=8,33,0)","v":{"$error":"#REF!"}},{"$f":"IF(#REF!=9,32,0)","v":{"$error":"#REF!"}},{"$f":"IF(#REF!=10,31,0)","v":{"$error":"#REF!"}},{"$f":"IF(#REF!=11,30,0)","v":{"$error":"#REF!"}},{"$f":"IF(#REF!=12,29,0)","v":{"$error":"#REF!"}},{"$f":"IF(#REF!=13,28,0)","v":{"$error":"#REF!"}},{"$f":"IF(#REF!=14,27,0)","v":{"$error":"#REF!"}},{"$f":"IF(#REF!=15,26,0)","v":{"$error":"#REF!"}},{"$f":"IF(#REF!=16,25,0)","v":{"$error":"#REF!"}},{"$f":"IF(#REF!=17,24,0)","v":{"$error":"#REF!"}},{"$f":"IF(#REF!=18,23,0)","v":{"$error":"#REF!"}},{"$f":"IF(#REF!=19,22,0)","v":{"$error":"#REF!"}},{"$f":"IF(#REF!=20,21,0)","v":{"$error":"#REF!"}},{"$f":"IF(#REF!=21,20,0)","v":{"$error":"#REF!"}},{"$f":"IF(#REF!=22,19,0)","v":{"$error":"#REF!"}},{"$f":"IF(#REF!=23,18,0)","v":{"$error":"#REF!"}},{"$f":"IF(#REF!=24,17,0)","v":{"$error":"#REF!"}},{"$f":"IF(#REF!=25,16,0)","v":{"$error":"#REF!"}},{"$f":"IF(#REF!=26,15,0)","v":{"$error":"#REF!"}},{"$f":"IF(#REF!=27,14,0)","v":{"$error":"#REF!"}},{"$f":"IF(#REF!=28,13,0)","v":{"$error":"#REF!"}},{"$f":"IF(#REF!=29,12,0)","v":{"$error":"#REF!"}},{"$f":"IF(#REF!=30,11,0)","v":{"$error":"#REF!"}},{"$f":"IF(#REF!=31,10,0)","v":{"$error":"#REF!"}},{"$f":"IF(#REF!=32,9,0)","v":{"$error":"#REF!"}},{"$f":"IF(#REF!=33,8,0)","v":{"$error":"#REF!"}},{"$f":"IF(#REF!=34,7,0)","v":{"$error":"#REF!"}},{"$f":"IF(#REF!=35,6,0)","v":{"$error":"#REF!"}},{"$f":"IF(#REF!=36,5,0)","v":{"$error":"#REF!"}},{"$f":"IF(#REF!=37,4,0)","v":{"$error":"#REF!"}},{"$f":"IF(#REF!=38,3,0)","v":{"$error":"#REF!"}},{"$f":"IF(#REF!=39,2,0)","v":{"$error":"#REF!"}},{"$f":"IF(#REF!=40,1,0)","v":{"$error":"#REF!"}},{"$f":"IF(#REF!>20,0,0)","v":{"$error":"#REF!"}},{"$f":"IF(#REF!=\"сх\",0,0)","v":{"$error":"#REF!"}},{"$f":"SUM(BD53:CS53)","v":{"$error":"#REF!"}},{"$f":"IF(#REF!=1,45,0)","v":{"$error":"#REF!"}},{"$f":"IF(#REF!=2,42,0)","v":{"$error":"#REF!"}},{"$f":"IF(#REF!=3,40,0)","v":{"$error":"#REF!"}},{"$f":"IF(#REF!=4,38,0)","v":{"$error":"#REF!"}},{"$f":"IF(#REF!=5,36,0)","v":{"$error":"#REF!"}},{"$f":"IF(#REF!=6,35,0)","v":{"$error":"#REF!"}},{"$f":"IF(#REF!=7,34,0)","v":{"$error":"#REF!"}},{"$f":"IF(#REF!=8,33,0)","v":{"$error":"#REF!"}},{"$f":"IF(#REF!=9,32,0)","v":{"$error":"#REF!"}},{"$f":"IF(#REF!=10,31,0)","v":{"$error":"#REF!"}},{"$f":"IF(#REF!=11,30,0)","v":{"$error":"#REF!"}},{"$f":"IF(#REF!=12,29,0)","v":{"$error":"#REF!"}},{"$f":"IF(#REF!=13,28,0)","v":{"$error":"#REF!"}},{"$f":"IF(#REF!=14,27,0)","v":{"$error":"#REF!"}},{"$f":"IF(#REF!=15,26,0)","v":{"$error":"#REF!"}},{"$f":"IF(#REF!=16,25,0)","v":{"$error":"#REF!"}},{"$f":"IF(#REF!=17,24,0)","v":{"$error":"#REF!"}},{"$f":"IF(#REF!=18,23,0)","v":{"$error":"#REF!"}},{"$f":"IF(#REF!=19,22,0)","v":{"$error":"#REF!"}},{"$f":"IF(#REF!=20,21,0)","v":{"$error":"#REF!"}},{"$f":"IF(#REF!=21,20,0)","v":{"$error":"#REF!"}},{"$f":"IF(#REF!=22,19,0)","v":{"$error":"#REF!"}},{"$f":"IF(#REF!=23,18,0)","v":{"$error":"#REF!"}},{"$f":"IF(#REF!=24,17,0)","v":{"$error":"#REF!"}},{"$f":"IF(#REF!=25,16,0)","v":{"$error":"#REF!"}},{"$f":"IF(#REF!=26,15,0)","v":{"$error":"#REF!"}},{"$f":"IF(#REF!=27,14,0)","v":{"$error":"#REF!"}},{"$f":"IF(#REF!=28,13,0)","v":{"$error":"#REF!"}},{"$f":"IF(#REF!=29,12,0)","v":{"$error":"#REF!"}},{"$f":"IF(#REF!=30,11,0)","v":{"$error":"#REF!"}},{"$f":"IF(#REF!=31,10,0)","v":{"$error":"#REF!"}},{"$f":"IF(#REF!=32,9,0)","v":{"$error":"#REF!"}},{"$f":"IF(#REF!=33,8,0)","v":{"$error":"#REF!"}},{"$f":"IF(#REF!=34,7,0)","v":{"$error":"#REF!"}},{"$f":"IF(#REF!=35,6,0)","v":{"$error":"#REF!"}},{"$f":"IF(#REF!=36,5,0)","v":{"$error":"#REF!"}},{"$f":"IF(#REF!=37,4,0)","v":{"$error":"#REF!"}},{"$f":"IF(#REF!=38,3,0)","v":{"$error":"#REF!"}},{"$f":"IF(#REF!=39,2,0)","v":{"$error":"#REF!"}},{"$f":"IF(#REF!=40,1,0)","v":{"$error":"#REF!"}},{"$f":"IF(#REF!>20,0,0)","v":{"$error":"#REF!"}},{"$f":"IF(#REF!=\"сх\",0,0)","v":{"$error":"#REF!"}},{"$f":"SUM(CU53:EJ53)","v":{"$error":"#REF!"}},null,{"$f":"IF(#REF!=\"сх\",\"ноль\",IF(#REF!>0,#REF!,\"Ноль\"))","v":{"$error":"#REF!"}},{"$f":"IF(#REF!=\"сх\",\"ноль\",IF(#REF!>0,#REF!,\"Ноль\"))","v":{"$error":"#REF!"}},null,{"$f":"MIN(EM53,EN53)","v":{"$error":"#REF!"}},{"$f":"IF(F43=#REF!,IF(#REF!<#REF!,#REF!,EU53),#REF!)","v":{"$error":"#REF!"}},{"$f":"IF(F43=#REF!,IF(#REF!<#REF!,0,1))","v":{"$error":"#REF!"}},{"$f":"IF(AND(EP53>=21,EP53<>0),EP53,IF(F43<#REF!,\"СТОП\",EQ53+ER53))","v":{"$error":"#REF!"}},null,15,16,null,{"$f":"IF(#REF!=1,25,0)","v":{"$error":"#REF!"}},{"$f":"IF(#REF!=2,22,0)","v":{"$error":"#REF!"}},{"$f":"IF(#REF!=3,20,0)","v":{"$error":"#REF!"}},{"$f":"IF(#REF!=4,18,0)","v":{"$error":"#REF!"}},{"$f":"IF(#REF!=5,16,0)","v":{"$error":"#REF!"}},{"$f":"IF(#REF!=6,15,0)","v":{"$error":"#REF!"}},{"$f":"IF(#REF!=7,14,0)","v":{"$error":"#REF!"}},{"$f":"IF(#REF!=8,13,0)","v":{"$error":"#REF!"}},{"$f":"IF(#REF!=9,12,0)","v":{"$error":"#REF!"}},{"$f":"IF(#REF!=10,11,0)","v":{"$error":"#REF!"}},{"$f":"IF(#REF!=11,10,0)","v":{"$error":"#REF!"}},{"$f":"IF(#REF!=12,9,0)","v":{"$error":"#REF!"}},{"$f":"IF(#REF!=13,8,0)","v":{"$error":"#REF!"}},{"$f":"IF(#REF!=14,7,0)","v":{"$error":"#REF!"}},{"$f":"IF(#REF!=15,6,0)","v":{"$error":"#REF!"}},{"$f":"IF(#REF!=16,5,0)","v":{"$error":"#REF!"}},{"$f":"IF(#REF!=17,4,0)","v":{"$error":"#REF!"}},{"$f":"IF(#REF!=18,3,0)","v":{"$error":"#REF!"}},{"$f":"IF(#REF!=19,2,0)","v":{"$error":"#REF!"}},{"$f":"IF(#REF!=20,1,0)","v":{"$error":"#REF!"}},{"$f":"IF(#REF!>20,0,0)","v":{"$error":"#REF!"}},{"$f":"IF(#REF!=\"сх\",0,0)","v":{"$error":"#REF!"}},{"$f":"SUM(EX53:FS53)","v":{"$error":"#REF!"}},{"$f":"IF(#REF!=1,25,0)","v":{"$error":"#REF!"}},{"$f":"IF(#REF!=2,22,0)","v":{"$error":"#REF!"}},{"$f":"IF(#REF!=3,20,0)","v":{"$error":"#REF!"}},{"$f":"IF(#REF!=4,18,0)","v":{"$error":"#REF!"}},{"$f":"IF(#REF!=5,16,0)","v":{"$error":"#REF!"}},{"$f":"IF(#REF!=6,15,0)","v":{"$error":"#REF!"}},{"$f":"IF(#REF!=7,14,0)","v":{"$error":"#REF!"}},{"$f":"IF(#REF!=8,13,0)","v":{"$error":"#REF!"}},{"$f":"IF(#REF!=9,12,0)","v":{"$error":"#REF!"}},{"$f":"IF(#REF!=10,11,0)","v":{"$error":"#REF!"}},{"$f":"IF(#REF!=11,10,0)","v":{"$error":"#REF!"}},{"$f":"IF(#REF!=12,9,0)","v":{"$error":"#REF!"}},{"$f":"IF(#REF!=13,8,0)","v":{"$error":"#REF!"}},{"$f":"IF(#REF!=14,7,0)","v":{"$error":"#REF!"}},{"$f":"IF(#REF!=15,6,0)","v":{"$error":"#REF!"}},{"$f":"IF(#REF!=16,5,0)","v":{"$error":"#REF!"}},{"$f":"IF(#REF!=17,4,0)","v":{"$error":"#REF!"}},{"$f":"IF(#REF!=18,3,0)","v":{"$error":"#REF!"}},{"$f":"IF(#REF!=19,2,0)","v":{"$error":"#REF!"}},{"$f":"IF(#REF!=20,1,0)","v":{"$error":"#REF!"}},{"$f":"IF(#REF!>20,0,0)","v":{"$error":"#REF!"}},{"$f":"IF(#REF!=\"сх\",0,0)","v":{"$error":"#REF!"}},{"$f":"SUM(FU53:GP53)","v":{"$error":"#REF!"}},{"$f":"IF(#REF!=1,100,0)","v":{"$error":"#REF!"}},{"$f":"IF(#REF!=2,98,0)","v":{"$error":"#REF!"}},{"$f":"IF(#REF!=3,95,0)","v":{"$error":"#REF!"}},{"$f":"IF(#REF!=4,93,0)","v":{"$error":"#REF!"}},{"$f":"IF(#REF!=5,90,0)","v":{"$error":"#REF!"}},{"$f":"IF(#REF!=6,88,0)","v":{"$error":"#REF!"}},{"$f":"IF(#REF!=7,85,0)","v":{"$error":"#REF!"}},{"$f":"IF(#REF!=8,83,0)","v":{"$error":"#REF!"}},{"$f":"IF(#REF!=9,80,0)","v":{"$error":"#REF!"}},{"$f":"IF(#REF!=10,78,0)","v":{"$error":"#REF!"}},{"$f":"IF(#REF!=11,75,0)","v":{"$error":"#REF!"}},{"$f":"IF(#REF!=12,73,0)","v":{"$error":"#REF!"}},{"$f":"IF(#REF!=13,70,0)","v":{"$error":"#REF!"}},{"$f":"IF(#REF!=14,68,0)","v":{"$error":"#REF!"}},{"$f":"IF(#REF!=15,65,0)","v":{"$error":"#REF!"}},{"$f":"IF(#REF!=16,63,0)","v":{"$error":"#REF!"}},{"$f":"IF(#REF!=17,60,0)","v":{"$error":"#REF!"}},{"$f":"IF(#REF!=18,58,0)","v":{"$error":"#REF!"}},{"$f":"IF(#REF!=19,55,0)","v":{"$error":"#REF!"}},{"$f":"IF(#REF!=20,53,0)","v":{"$error":"#REF!"}},{"$f":"IF(#REF!>20,0,0)","v":{"$error":"#REF!"}},{"$f":"IF(#REF!=\"сх\",0,0)","v":{"$error":"#REF!"}},{"$f":"SUM(GR53:HM53)","v":{"$error":"#REF!"}},{"$f":"IF(#REF!=1,100,0)","v":{"$error":"#REF!"}},{"$f":"IF(#REF!=2,98,0)","v":{"$error":"#REF!"}},{"$f":"IF(#REF!=3,95,0)","v":{"$error":"#REF!"}},{"$f":"IF(#REF!=4,93,0)","v":{"$error":"#REF!"}},{"$f":"IF(#REF!=5,90,0)","v":{"$error":"#REF!"}},{"$f":"IF(#REF!=6,88,0)","v":{"$error":"#REF!"}},{"$f":"IF(#REF!=7,85,0)","v":{"$error":"#REF!"}},{"$f":"IF(#REF!=8,83,0)","v":{"$error":"#REF!"}},{"$f":"IF(#REF!=9,80,0)","v":{"$error":"#REF!"}},{"$f":"IF(#REF!=10,78,0)","v":{"$error":"#REF!"}},{"$f":"IF(#REF!=11,75,0)","v":{"$error":"#REF!"}},{"$f":"IF(#REF!=12,73,0)","v":{"$error":"#REF!"}},{"$f":"IF(#REF!=13,70,0)","v":{"$error":"#REF!"}},{"$f":"IF(#REF!=14,68,0)","v":{"$error":"#REF!"}},{"$f":"IF(#REF!=15,65,0)","v":{"$error":"#REF!"}},{"$f":"IF(#REF!=16,63,0)","v":{"$error":"#REF!"}},{"$f":"IF(#REF!=17,60,0)","v":{"$error":"#REF!"}},{"$f":"IF(#REF!=18,58,0)","v":{"$error":"#REF!"}},{"$f":"IF(#REF!=19,55,0)","v":{"$error":"#REF!"}},{"$f":"IF(#REF!=20,53,0)","v":{"$error":"#REF!"}},{"$f":"IF(#REF!>20,0,0)","v":{"$error":"#REF!"}},{"$f":"IF(#REF!=\"сх\",0,0)","v":{"$error":"#REF!"}},{"$f":"SUM(HO53:IJ53)","v":{"$error":"#REF!"}}]
[null,null,null,null,null,null,{"$f":"#REF!+#REF!","v":{"$error":"#REF!"}},null,null,{"$f":"IF(#REF!=1,25,0)","v":{"$error":"#REF!"}},{"$f":"IF(#REF!=2,22,0)","v":{"$error":"#REF!"}},{"$f":"IF(#REF!=3,20,0)","v":{"$error":"#REF!"}},{"$f":"IF(#REF!=4,18,0)","v":{"$error":"#REF!"}},{"$f":"IF(#REF!=5,16,0)","v":{"$error":"#REF!"}},{"$f":"IF(#REF!=6,15,0)","v":{"$error":"#REF!"}},{"$f":"IF(#REF!=7,14,0)","v":{"$error":"#REF!"}},{"$f":"IF(#REF!=8,13,0)","v":{"$error":"#REF!"}},{"$f":"IF(#REF!=9,12,0)","v":{"$error":"#REF!"}},{"$f":"IF(#REF!=10,11,0)","v":{"$error":"#REF!"}},{"$f":"IF(#REF!=11,10,0)","v":{"$error":"#REF!"}},{"$f":"IF(#REF!=12,9,0)","v":{"$error":"#REF!"}},{"$f":"IF(#REF!=13,8,0)","v":{"$error":"#REF!"}},{"$f":"IF(#REF!=14,7,0)","v":{"$error":"#REF!"}},{"$f":"IF(#REF!=15,6,0)","v":{"$error":"#REF!"}},{"$f":"IF(#REF!=16,5,0)","v":{"$error":"#REF!"}},{"$f":"IF(#REF!=17,4,0)","v":{"$error":"#REF!"}},{"$f":"IF(#REF!=18,3,0)","v":{"$error":"#REF!"}},{"$f":"IF(#REF!=19,2,0)","v":{"$error":"#REF!"}},{"$f":"IF(#REF!=20,1,0)","v":{"$error":"#REF!"}},{"$f":"IF(#REF!>20,0,0)","v":{"$error":"#REF!"}},{"$f":"IF(#REF!=\"сх\",0,0)","v":{"$error":"#REF!"}},{"$f":"SUM(J54:AD54)","v":{"$error":"#REF!"}},{"$f":"IF(#REF!=1,25,0)","v":{"$error":"#REF!"}},{"$f":"IF(#REF!=2,22,0)","v":{"$error":"#REF!"}},{"$f":"IF(#REF!=3,20,0)","v":{"$error":"#REF!"}},{"$f":"IF(#REF!=4,18,0)","v":{"$error":"#REF!"}},{"$f":"IF(#REF!=5,16,0)","v":{"$error":"#REF!"}},{"$f":"IF(#REF!=6,15,0)","v":{"$error":"#REF!"}},{"$f":"IF(#REF!=7,14,0)","v":{"$error":"#REF!"}},{"$f":"IF(#REF!=8,13,0)","v":{"$error":"#REF!"}},{"$f":"IF(#REF!=9,12,0)","v":{"$error":"#REF!"}},{"$f":"IF(#REF!=10,11,0)","v":{"$error":"#REF!"}},{"$f":"IF(#REF!=11,10,0)","v":{"$error":"#REF!"}},{"$f":"IF(#REF!=12,9,0)","v":{"$error":"#REF!"}},{"$f":"IF(#REF!=13,8,0)","v":{"$error":"#REF!"}},{"$f":"IF(#REF!=14,7,0)","v":{"$error":"#REF!"}},{"$f":"IF(#REF!=15,6,0)","v":{"$error":"#REF!"}},{"$f":"IF(#REF!=16,5,0)","v":{"$error":"#REF!"}},{"$f":"IF(#REF!=17,4,0)","v":{"$error":"#REF!"}},{"$f":"IF(#REF!=18,3,0)","v":{"$error":"#REF!"}},{"$f":"IF(#REF!=19,2,0)","v":{"$error":"#REF!"}},{"$f":"IF(#REF!=20,1,0)","v":{"$error":"#REF!"}},{"$f":"IF(#REF!>20,0,0)","v":{"$error":"#REF!"}},{"$f":"IF(#REF!=\"сх\",0,0)","v":{"$error":"#REF!"}},{"$f":"SUM(AG54:BA54)","v":{"$error":"#REF!"}},{"$f":"IF(#REF!=1,45,0)","v":{"$error":"#REF!"}},{"$f":"IF(#REF!=2,42,0)","v":{"$error":"#REF!"}},{"$f":"IF(#REF!=3,40,0)","v":{"$error":"#REF!"}},{"$f":"IF(#REF!=4,38,0)","v":{"$error":"#REF!"}},{"$f":"IF(#REF!=5,36,0)","v":{"$error":"#REF!"}},{"$f":"IF(#REF!=6,35,0)","v":{"$error":"#REF!"}},{"$f":"IF(#REF!=7,34,0)","v":{"$error":"#REF!"}},{"$f":"IF(#REF!=8,33,0)","v":{"$error":"#REF!"}},{"$f":"IF(#REF!=9,32,0)","v":{"$error":"#REF!"}},{"$f":"IF(#REF!=10,31,0)","v":{"$error":"#REF!"}},{"$f":"IF(#REF!=11,30,0)","v":{"$error":"#REF!"}},{"$f":"IF(#REF!=12,29,0)","v":{"$error":"#REF!"}},{"$f":"IF(#REF!=13,28,0)","v":{"$error":"#REF!"}},{"$f":"IF(#REF!=14,27,0)","v":{"$error":"#REF!"}},{"$f":"IF(#REF!=15,26,0)","v":{"$error":"#REF!"}},{"$f":"IF(#REF!=16,25,0)","v":{"$error":"#REF!"}},{"$f":"IF(#REF!=17,24,0)","v":{"$error":"#REF!"}},{"$f":"IF(#REF!=18,23,0)","v":{"$error":"#REF!"}},{"$f":"IF(#REF!=19,22,0)","v":{"$error":"#REF!"}},{"$f":"IF(#REF!=20,21,0)","v":{"$error":"#REF!"}},{"$f":"IF(#REF!=21,20,0)","v":{"$error":"#REF!"}},{"$f":"IF(#REF!=22,19,0)","v":{"$error":"#REF!"}},{"$f":"IF(#REF!=23,18,0)","v":{"$error":"#REF!"}},{"$f":"IF(#REF!=24,17,0)","v":{"$error":"#REF!"}},{"$f":"IF(#REF!=25,16,0)","v":{"$error":"#REF!"}},{"$f":"IF(#REF!=26,15,0)","v":{"$error":"#REF!"}},{"$f":"IF(#REF!=27,14,0)","v":{"$error":"#REF!"}},{"$f":"IF(#REF!=28,13,0)","v":{"$error":"#REF!"}},{"$f":"IF(#REF!=29,12,0)","v":{"$error":"#REF!"}},{"$f":"IF(#REF!=30,11,0)","v":{"$error":"#REF!"}},{"$f":"IF(#REF!=31,10,0)","v":{"$error":"#REF!"}},{"$f":"IF(#REF!=32,9,0)","v":{"$error":"#REF!"}},{"$f":"IF(#REF!=33,8,0)","v":{"$error":"#REF!"}},{"$f":"IF(#REF!=34,7,0)","v":{"$error":"#REF!"}},{"$f":"IF(#REF!=35,6,0)","v":{"$error":"#REF!"}},{"$f":"IF(#REF!=36,5,0)","v":{"$error":"#REF!"}},{"$f":"IF(#REF!=37,4,0)","v":{"$error":"#REF!"}},{"$f":"IF(#REF!=38,3,0)","v":{"$error":"#REF!"}},{"$f":"IF(#REF!=39,2,0)","v":{"$error":"#REF!"}},{"$f":"IF(#REF!=40,1,0)","v":{"$error":"#REF!"}},{"$f":"IF(#REF!>20,0,0)","v":{"$error":"#REF!"}},{"$f":"IF(#REF!=\"сх\",0,0)","v":{"$error":"#REF!"}},{"$f":"SUM(BD54:CS54)","v":{"$error":"#REF!"}},{"$f":"IF(#REF!=1,45,0)","v":{"$error":"#REF!"}},{"$f":"IF(#REF!=2,42,0)","v":{"$error":"#REF!"}},{"$f":"IF(#REF!=3,40,0)","v":{"$error":"#REF!"}},{"$f":"IF(#REF!=4,38,0)","v":{"$error":"#REF!"}},{"$f":"IF(#REF!=5,36,0)","v":{"$error":"#REF!"}},{"$f":"IF(#REF!=6,35,0)","v":{"$error":"#REF!"}},{"$f":"IF(#REF!=7,34,0)","v":{"$error":"#REF!"}},{"$f":"IF(#REF!=8,33,0)","v":{"$error":"#REF!"}},{"$f":"IF(#REF!=9,32,0)","v":{"$error":"#REF!"}},{"$f":"IF(#REF!=10,31,0)","v":{"$error":"#REF!"}},{"$f":"IF(#REF!=11,30,0)","v":{"$error":"#REF!"}},{"$f":"IF(#REF!=12,29,0)","v":{"$error":"#REF!"}},{"$f":"IF(#REF!=13,28,0)","v":{"$error":"#REF!"}},{"$f":"IF(#REF!=14,27,0)","v":{"$error":"#REF!"}},{"$f":"IF(#REF!=15,26,0)","v":{"$error":"#REF!"}},{"$f":"IF(#REF!=16,25,0)","v":{"$error":"#REF!"}},{"$f":"IF(#REF!=17,24,0)","v":{"$error":"#REF!"}},{"$f":"IF(#REF!=18,23,0)","v":{"$error":"#REF!"}},{"$f":"IF(#REF!=19,22,0)","v":{"$error":"#REF!"}},{"$f":"IF(#REF!=20,21,0)","v":{"$error":"#REF!"}},{"$f":"IF(#REF!=21,20,0)","v":{"$error":"#REF!"}},{"$f":"IF(#REF!=22,19,0)","v":{"$error":"#REF!"}},{"$f":"IF(#REF!=23,18,0)","v":{"$error":"#REF!"}},{"$f":"IF(#REF!=24,17,0)","v":{"$error":"#REF!"}},{"$f":"IF(#REF!=25,16,0)","v":{"$error":"#REF!"}},{"$f":"IF(#REF!=26,15,0)","v":{"$error":"#REF!"}},{"$f":"IF(#REF!=27,14,0)","v":{"$error":"#REF!"}},{"$f":"IF(#REF!=28,13,0)","v":{"$error":"#REF!"}},{"$f":"IF(#REF!=29,12,0)","v":{"$error":"#REF!"}},{"$f":"IF(#REF!=30,11,0)","v":{"$error":"#REF!"}},{"$f":"IF(#REF!=31,10,0)","v":{"$error":"#REF!"}},{"$f":"IF(#REF!=32,9,0)","v":{"$error":"#REF!"}},{"$f":"IF(#REF!=33,8,0)","v":{"$error":"#REF!"}},{"$f":"IF(#REF!=34,7,0)","v":{"$error":"#REF!"}},{"$f":"IF(#REF!=35,6,0)","v":{"$error":"#REF!"}},{"$f":"IF(#REF!=36,5,0)","v":{"$error":"#REF!"}},{"$f":"IF(#REF!=37,4,0)","v":{"$error":"#REF!"}},{"$f":"IF(#REF!=38,3,0)","v":{"$error":"#REF!"}},{"$f":"IF(#REF!=39,2,0)","v":{"$error":"#REF!"}},{"$f":"IF(#REF!=40,1,0)","v":{"$error":"#REF!"}},{"$f":"IF(#REF!>20,0,0)","v":{"$error":"#REF!"}},{"$f":"IF(#REF!=\"сх\",0,0)","v":{"$error":"#REF!"}},{"$f":"SUM(CU54:EJ54)","v":{"$error":"#REF!"}},null,{"$f":"IF(#REF!=\"сх\",\"ноль\",IF(#REF!>0,#REF!,\"Ноль\"))","v":{"$error":"#REF!"}},{"$f":"IF(#REF!=\"сх\",\"ноль\",IF(#REF!>0,#REF!,\"Ноль\"))","v":{"$error":"#REF!"}},null,{"$f":"MIN(EM54,EN54)","v":{"$error":"#REF!"}},{"$f":"IF(F44=#REF!,IF(#REF!<#REF!,#REF!,EU54),#REF!)","v":{"$error":"#REF!"}},{"$f":"IF(F44=#REF!,IF(#REF!<#REF!,0,1))","v":{"$error":"#REF!"}},{"$f":"IF(AND(EP54>=21,EP54<>0),EP54,IF(F44<#REF!,\"СТОП\",EQ54+ER54))","v":{"$error":"#REF!"}},null,15,16,null,{"$f":"IF(#REF!=1,25,0)","v":{"$error":"#REF!"}},{"$f":"IF(#REF!=2,22,0)","v":{"$error":"#REF!"}},{"$f":"IF(#REF!=3,20,0)","v":{"$error":"#REF!"}},{"$f":"IF(#REF!=4,18,0)","v":{"$error":"#REF!"}},{"$f":"IF(#REF!=5,16,0)","v":{"$error":"#REF!"}},{"$f":"IF(#REF!=6,15,0)","v":{"$error":"#REF!"}},{"$f":"IF(#REF!=7,14,0)","v":{"$error":"#REF!"}},{"$f":"IF(#REF!=8,13,0)","v":{"$error":"#REF!"}},{"$f":"IF(#REF!=9,12,0)","v":{"$error":"#REF!"}},{"$f":"IF(#REF!=10,11,0)","v":{"$error":"#REF!"}},{"$f":"IF(#REF!=11,10,0)","v":{"$error":"#REF!"}},{"$f":"IF(#REF!=12,9,0)","v":{"$error":"#REF!"}},{"$f":"IF(#REF!=13,8,0)","v":{"$error":"#REF!"}},{"$f":"IF(#REF!=14,7,0)","v":{"$error":"#REF!"}},{"$f":"IF(#REF!=15,6,0)","v":{"$error":"#REF!"}},{"$f":"IF(#REF!=16,5,0)","v":{"$error":"#REF!"}},{"$f":"IF(#REF!=17,4,0)","v":{"$error":"#REF!"}},{"$f":"IF(#REF!=18,3,0)","v":{"$error":"#REF!"}},{"$f":"IF(#REF!=19,2,0)","v":{"$error":"#REF!"}},{"$f":"IF(#REF!=20,1,0)","v":{"$error":"#REF!"}},{"$f":"IF(#REF!>20,0,0)","v":{"$error":"#REF!"}},{"$f":"IF(#REF!=\"сх\",0,0)","v":{"$error":"#REF!"}},{"$f":"SUM(EX54:FS54)","v":{"$error":"#REF!"}},{"$f":"IF(#REF!=1,25,0)","v":{"$error":"#REF!"}},{"$f":"IF(#REF!=2,22,0)","v":{"$error":"#REF!"}},{"$f":"IF(#REF!=3,20,0)","v":{"$error":"#REF!"}},{"$f":"IF(#REF!=4,18,0)","v":{"$error":"#REF!"}},{"$f":"IF(#REF!=5,16,0)","v":{"$error":"#REF!"}},{"$f":"IF(#REF!=6,15,0)","v":{"$error":"#REF!"}},{"$f":"IF(#REF!=7,14,0)","v":{"$error":"#REF!"}},{"$f":"IF(#REF!=8,13,0)","v":{"$error":"#REF!"}},{"$f":"IF(#REF!=9,12,0)","v":{"$error":"#REF!"}},{"$f":"IF(#REF!=10,11,0)","v":{"$error":"#REF!"}},{"$f":"IF(#REF!=11,10,0)","v":{"$error":"#REF!"}},{"$f":"IF(#REF!=12,9,0)","v":{"$error":"#REF!"}},{"$f":"IF(#REF!=13,8,0)","v":{"$error":"#REF!"}},{"$f":"IF(#REF!=14,7,0)","v":{"$error":"#REF!"}},{"$f":"IF(#REF!=15,6,0)","v":{"$error":"#REF!"}},{"$f":"IF(#REF!=16,5,0)","v":{"$error":"#REF!"}},{"$f":"IF(#REF!=17,4,0)","v":{"$error":"#REF!"}},{"$f":"IF(#REF!=18,3,0)","v":{"$error":"#REF!"}},{"$f":"IF(#REF!=19,2,0)","v":{"$error":"#REF!"}},{"$f":"IF(#REF!=20,1,0)","v":{"$error":"#REF!"}},{"$f":"IF(#REF!>20,0,0)","v":{"$error":"#REF!"}},{"$f":"IF(#REF!=\"сх\",0,0)","v":{"$error":"#REF!"}},{"$f":"SUM(FU54:GP54)","v":{"$error":"#REF!"}},{"$f":"IF(#REF!=1,100,0)","v":{"$error":"#REF!"}},{"$f":"IF(#REF!=2,98,0)","v":{"$error":"#REF!"}},{"$f":"IF(#REF!=3,95,0)","v":{"$error":"#REF!"}},{"$f":"IF(#REF!=4,93,0)","v":{"$error":"#REF!"}},{"$f":"IF(#REF!=5,90,0)","v":{"$error":"#REF!"}},{"$f":"IF(#REF!=6,88,0)","v":{"$error":"#REF!"}},{"$f":"IF(#REF!=7,85,0)","v":{"$error":"#REF!"}},{"$f":"IF(#REF!=8,83,0)","v":{"$error":"#REF!"}},{"$f":"IF(#REF!=9,80,0)","v":{"$error":"#REF!"}},{"$f":"IF(#REF!=10,78,0)","v":{"$error":"#REF!"}},{"$f":"IF(#REF!=11,75,0)","v":{"$error":"#REF!"}},{"$f":"IF(#REF!=12,73,0)","v":{"$error":"#REF!"}},{"$f":"IF(#REF!=13,70,0)","v":{"$error":"#REF!"}},{"$f":"IF(#REF!=14,68,0)","v":{"$error":"#REF!"}},{"$f":"IF(#REF!=15,65,0)","v":{"$error":"#REF!"}},{"$f":"IF(#REF!=16,63,0)","v":{"$error":"#REF!"}},{"$f":"IF(#REF!=17,60,0)","v":{"$error":"#REF!"}},{"$f":"IF(#REF!=18,58,0)","v":{"$error":"#REF!"}},{"$f":"IF(#REF!=19,55,0)","v":{"$error":"#REF!"}},{"$f":"IF(#REF!=20,53,0)","v":{"$error":"#REF!"}},{"$f":"IF(#REF!>20,0,0)","v":{"$error":"#REF!"}},{"$f":"IF(#REF!=\"сх\",0,0)","v":{"$error":"#REF!"}},{"$f":"SUM(GR54:HM54)","v":{"$error":"#REF!"}},{"$f":"IF(#REF!=1,100,0)","v":{"$error":"#REF!"}},{"$f":"IF(#REF!=2,98,0)","v":{"$error":"#REF!"}},{"$f":"IF(#REF!=3,95,0)","v":{"$error":"#REF!"}},{"$f":"IF(#REF!=4,93,0)","v":{"$error":"#REF!"}},{"$f":"IF(#REF!=5,90,0)","v":{"$error":"#REF!"}},{"$f":"IF(#REF!=6,88,0)","v":{"$error":"#REF!"}},{"$f":"IF(#REF!=7,85,0)","v":{"$error":"#REF!"}},{"$f":"IF(#REF!=8,83,0)","v":{"$error":"#REF!"}},{"$f":"IF(#REF!=9,80,0)","v":{"$error":"#REF!"}},{"$f":"IF(#REF!=10,78,0)","v":{"$error":"#REF!"}},{"$f":"IF(#REF!=11,75,0)","v":{"$error":"#REF!"}},{"$f":"IF(#REF!=12,73,0)","v":{"$error":"#REF!"}},{"$f":"IF(#REF!=13,70,0)","v":{"$error":"#REF!"}},{"$f":"IF(#REF!=14,68,0)","v":{"$error":"#REF!"}},{"$f":"IF(#REF!=15,65,0)","v":{"$error":"#REF!"}},{"$f":"IF(#REF!=16,63,0)","v":{"$error":"#REF!"}},{"$f":"IF(#REF!=17,60,0)","v":{"$error":"#REF!"}},{"$f":"IF(#REF!=18,58,0)","v":{"$error":"#REF!"}},{"$f":"IF(#REF!=19,55,0)","v":{"$error":"#REF!"}},{"$f":"IF(#REF!=20,53,0)","v":{"$error":"#REF!"}},{"$f":"IF(#REF!>20,0,0)","v":{"$error":"#REF!"}},{"$f":"IF(#REF!=\"сх\",0,0)","v":{"$error":"#REF!"}},{"$f":"SUM(HO54:IJ54)","v":{"$error":"#REF!"}}]
[null,null,null,null,null,null,{"$f":"#REF!+#REF!","v":{"$error":"#REF!"}},null,null,{"$f":"IF(#REF!=1,25,0)","v":{"$error":"#REF!"}},{"$f":"IF(#REF!=2,22,0)","v":{"$error":"#REF!"}},{"$f":"IF(#REF!=3,20,0)","v":{"$error":"#REF!"}},{"$f":"IF(#REF!=4,18,0)","v":{"$error":"#REF!"}},{"$f":"IF(#REF!=5,16,0)","v":{"$error":"#REF!"}},{"$f":"IF(#REF!=6,15,0)","v":{"$error":"#REF!"}},{"$f":"IF(#REF!=7,14,0)","v":{"$error":"#REF!"}},{"$f":"IF(#REF!=8,13,0)","v":{"$error":"#REF!"}},{"$f":"IF(#REF!=9,12,0)","v":{"$error":"#REF!"}},{"$f":"IF(#REF!=10,11,0)","v":{"$error":"#REF!"}},{"$f":"IF(#REF!=11,10,0)","v":{"$error":"#REF!"}},{"$f":"IF(#REF!=12,9,0)","v":{"$error":"#REF!"}},{"$f":"IF(#REF!=13,8,0)","v":{"$error":"#REF!"}},{"$f":"IF(#REF!=14,7,0)","v":{"$error":"#REF!"}},{"$f":"IF(#REF!=15,6,0)","v":{"$error":"#REF!"}},{"$f":"IF(#REF!=16,5,0)","v":{"$error":"#REF!"}},{"$f":"IF(#REF!=17,4,0)","v":{"$error":"#REF!"}},{"$f":"IF(#REF!=18,3,0)","v":{"$error":"#REF!"}},{"$f":"IF(#REF!=19,2,0)","v":{"$error":"#REF!"}},{"$f":"IF(#REF!=20,1,0)","v":{"$error":"#REF!"}},{"$f":"IF(#REF!>20,0,0)","v":{"$error":"#REF!"}},{"$f":"IF(#REF!=\"сх\",0,0)","v":{"$error":"#REF!"}},{"$f":"SUM(J55:AD55)","v":{"$error":"#REF!"}},{"$f":"IF(#REF!=1,25,0)","v":{"$error":"#REF!"}},{"$f":"IF(#REF!=2,22,0)","v":{"$error":"#REF!"}},{"$f":"IF(#REF!=3,20,0)","v":{"$error":"#REF!"}},{"$f":"IF(#REF!=4,18,0)","v":{"$error":"#REF!"}},{"$f":"IF(#REF!=5,16,0)","v":{"$error":"#REF!"}},{"$f":"IF(#REF!=6,15,0)","v":{"$error":"#REF!"}},{"$f":"IF(#REF!=7,14,0)","v":{"$error":"#REF!"}},{"$f":"IF(#REF!=8,13,0)","v":{"$error":"#REF!"}},{"$f":"IF(#REF!=9,12,0)","v":{"$error":"#REF!"}},{"$f":"IF(#REF!=10,11,0)","v":{"$error":"#REF!"}},{"$f":"IF(#REF!=11,10,0)","v":{"$error":"#REF!"}},{"$f":"IF(#REF!=12,9,0)","v":{"$error":"#REF!"}},{"$f":"IF(#REF!=13,8,0)","v":{"$error":"#REF!"}},{"$f":"IF(#REF!=14,7,0)","v":{"$error":"#REF!"}},{"$f":"IF(#REF!=15,6,0)","v":{"$error":"#REF!"}},{"$f":"IF(#REF!=16,5,0)","v":{"$error":"#REF!"}},{"$f":"IF(#REF!=17,4,0)","v":{"$error":"#REF!"}},{"$f":"IF(#REF!=18,3,0)","v":{"$error":"#REF!"}},{"$f":"IF(#REF!=19,2,0)","v":{"$error":"#REF!"}},{"$f":"IF(#REF!=20,1,0)","v":{"$error":"#REF!"}},{"$f":"IF(#REF!>20,0,0)","v":{"$error":"#REF!"}},{"$f":"IF(#REF!=\"сх\",0,0)","v":{"$error":"#REF!"}},{"$f":"SUM(AG55:BA55)","v":{"$error":"#REF!"}},{"$f":"IF(#REF!=1,45,0)","v":{"$error":"#REF!"}},{"$f":"IF(#REF!=2,42,0)","v":{"$error":"#REF!"}},{"$f":"IF(#REF!=3,40,0)","v":{"$error":"#REF!"}},{"$f":"IF(#REF!=4,38,0)","v":{"$error":"#REF!"}},{"$f":"IF(#REF!=5,36,0)","v":{"$error":"#REF!"}},{"$f":"IF(#REF!=6,35,0)","v":{"$error":"#REF!"}},{"$f":"IF(#REF!=7,34,0)","v":{"$error":"#REF!"}},{"$f":"IF(#REF!=8,33,0)","v":{"$error":"#REF!"}},{"$f":"IF(#REF!=9,32,0)","v":{"$error":"#REF!"}},{"$f":"IF(#REF!=10,31,0)","v":{"$error":"#REF!"}},{"$f":"IF(#REF!=11,30,0)","v":{"$error":"#REF!"}},{"$f":"IF(#REF!=12,29,0)","v":{"$error":"#REF!"}},{"$f":"IF(#REF!=13,28,0)","v":{"$error":"#REF!"}},{"$f":"IF(#REF!=14,27,0)","v":{"$error":"#REF!"}},{"$f":"IF(#REF!=15,26,0)","v":{"$error":"#REF!"}},{"$f":"IF(#REF!=16,25,0)","v":{"$error":"#REF!"}},{"$f":"IF(#REF!=17,24,0)","v":{"$error":"#REF!"}},{"$f":"IF(#REF!=18,23,0)","v":{"$error":"#REF!"}},{"$f":"IF(#REF!=19,22,0)","v":{"$error":"#REF!"}},{"$f":"IF(#REF!=20,21,0)","v":{"$error":"#REF!"}},{"$f":"IF(#REF!=21,20,0)","v":{"$error":"#REF!"}},{"$f":"IF(#REF!=22,19,0)","v":{"$error":"#REF!"}},{"$f":"IF(#REF!=23,18,0)","v":{"$error":"#REF!"}},{"$f":"IF(#REF!=24,17,0)","v":{"$error":"#REF!"}},{"$f":"IF(#REF!=25,16,0)","v":{"$error":"#REF!"}},{"$f":"IF(#REF!=26,15,0)","v":{"$error":"#REF!"}},{"$f":"IF(#REF!=27,14,0)","v":{"$error":"#REF!"}},{"$f":"IF(#REF!=28,13,0)","v":{"$error":"#REF!"}},{"$f":"IF(#REF!=29,12,0)","v":{"$error":"#REF!"}},{"$f":"IF(#REF!=30,11,0)","v":{"$error":"#REF!"}},{"$f":"IF(#REF!=31,10,0)","v":{"$error":"#REF!"}},{"$f":"IF(#REF!=32,9,0)","v":{"$error":"#REF!"}},{"$f":"IF(#REF!=33,8,0)","v":{"$error":"#REF!"}},{"$f":"IF(#REF!=34,7,0)","v":{"$error":"#REF!"}},{"$f":"IF(#REF!=35,6,0)","v":{"$error":"#REF!"}},{"$f":"IF(#REF!=36,5,0)","v":{"$error":"#REF!"}},{"$f":"IF(#REF!=37,4,0)","v":{"$error":"#REF!"}},{"$f":"IF(#REF!=38,3,0)","v":{"$error":"#REF!"}},{"$f":"IF(#REF!=39,2,0)","v":{"$error":"#REF!"}},{"$f":"IF(#REF!=40,1,0)","v":{"$error":"#REF!"}},{"$f":"IF(#REF!>20,0,0)","v":{"$error":"#REF!"}},{"$f":"IF(#REF!=\"сх\",0,0)","v":{"$error":"#REF!"}},{"$f":"SUM(BD55:CS55)","v":{"$error":"#REF!"}},{"$f":"IF(#REF!=1,45,0)","v":{"$error":"#REF!"}},{"$f":"IF(#REF!=2,42,0)","v":{"$error":"#REF!"}},{"$f":"IF(#REF!=3,40,0)","v":{"$error":"#REF!"}},{"$f":"IF(#REF!=4,38,0)","v":{"$error":"#REF!"}},{"$f":"IF(#REF!=5,36,0)","v":{"$error":"#REF!"}},{"$f":"IF(#REF!=6,35,0)","v":{"$error":"#REF!"}},{"$f":"IF(#REF!=7,34,0)","v":{"$error":"#REF!"}},{"$f":"IF(#REF!=8,33,0)","v":{"$error":"#REF!"}},{"$f":"IF(#REF!=9,32,0)","v":{"$error":"#REF!"}},{"$f":"IF(#REF!=10,31,0)","v":{"$error":"#REF!"}},{"$f":"IF(#REF!=11,30,0)","v":{"$error":"#REF!"}},{"$f":"IF(#REF!=12,29,0)","v":{"$error":"#REF!"}},{"$f":"IF(#REF!=13,28,0)","v":{"$error":"#REF!"}},{"$f":"IF(#REF!=14,27,0)","v":{"$error":"#REF!"}},{"$f":"IF(#REF!=15,26,0)","v":{"$error":"#REF!"}},{"$f":"IF(#REF!=16,25,0)","v":{"$error":"#REF!"}},{"$f":"IF(#REF!=17,24,0)","v":{"$error":"#REF!"}},{"$f":"IF(#REF!=18,23,0)","v":{"$error":"#REF!"}},{"$f":"IF(#REF!=19,22,0)","v":{"$error":"#REF!"}},{"$f":"IF(#REF!=20,21,0)","v":{"$error":"#REF!"}},{"$f":"IF(#REF!=21,20,0)","v":{"$error":"#REF!"}},{"$f":"IF(#REF!=22,19,0)","v":{"$error":"#REF!"}},{"$f":"IF(#REF!=23,18,0)","v":{"$error":"#REF!"}},{"$f":"IF(#REF!=24,17,0)","v":{"$error":"#REF!"}},{"$f":"IF(#REF!=25,16,0)","v":{"$error":"#REF!"}},{"$f":"IF(#REF!=26,15,0)","v":{"$error":"#REF!"}},{"$f":"IF(#REF!=27,14,0)","v":{"$error":"#REF!"}},{"$f":"IF(#REF!=28,13,0)","v":{"$error":"#REF!"}},{"$f":"IF(#REF!=29,12,0)","v":{"$error":"#REF!"}},{"$f":"IF(#REF!=30,11,0)","v":{"$error":"#REF!"}},{"$f":"IF(#REF!=31,10,0)","v":{"$error":"#REF!"}},{"$f":"IF(#REF!=32,9,0)","v":{"$error":"#REF!"}},{"$f":"IF(#REF!=33,8,0)","v":{"$error":"#REF!"}},{"$f":"IF(#REF!=34,7,0)","v":{"$error":"#REF!"}},{"$f":"IF(#REF!=35,6,0)","v":{"$error":"#REF!"}},{"$f":"IF(#REF!=36,5,0)","v":{"$error":"#REF!"}},{"$f":"IF(#REF!=37,4,0)","v":{"$error":"#REF!"}},{"$f":"IF(#REF!=38,3,0)","v":{"$error":"#REF!"}},{"$f":"IF(#REF!=39,2,0)","v":{"$error":"#REF!"}},{"$f":"IF(#REF!=40,1,0)","v":{"$error":"#REF!"}},{"$f":"IF(#REF!>20,0,0)","v":{"$error":"#REF!"}},{"$f":"IF(#REF!=\"сх\",0,0)","v":{"$error":"#REF!"}},{"$f":"SUM(CU55:EJ55)","v":{"$error":"#REF!"}},null,{"$f":"IF(#REF!=\"сх\",\"ноль\",IF(#REF!>0,#REF!,\"Ноль\"))","v":{"$error":"#REF!"}},{"$f":"IF(#REF!=\"сх\",\"ноль\",IF(#REF!>0,#REF!,\"Ноль\"))","v":{"$error":"#REF!"}},null,{"$f":"MIN(EM55,EN55)","v":{"$error":"#REF!"}},{"$f":"IF(F34=#REF!,IF(#REF!<#REF!,#REF!,EU55),#REF!)","v":{"$error":"#REF!"}},{"$f":"IF(F34=#REF!,IF(#REF!<#REF!,0,1))","v":{"$error":"#REF!"}},{"$f":"IF(AND(EP55>=21,EP55<>0),EP55,IF(F34<#REF!,\"СТОП\",EQ55+ER55))","v":{"$error":"#REF!"}},null,15,16,null,{"$f":"IF(#REF!=1,25,0)","v":{"$error":"#REF!"}},{"$f":"IF(#REF!=2,22,0)","v":{"$error":"#REF!"}},{"$f":"IF(#REF!=3,20,0)","v":{"$error":"#REF!"}},{"$f":"IF(#REF!=4,18,0)","v":{"$error":"#REF!"}},{"$f":"IF(#REF!=5,16,0)","v":{"$error":"#REF!"}},{"$f":"IF(#REF!=6,15,0)","v":{"$error":"#REF!"}},{"$f":"IF(#REF!=7,14,0)","v":{"$error":"#REF!"}},{"$f":"IF(#REF!=8,13,0)","v":{"$error":"#REF!"}},{"$f":"IF(#REF!=9,12,0)","v":{"$error":"#REF!"}},{"$f":"IF(#REF!=10,11,0)","v":{"$error":"#REF!"}},{"$f":"IF(#REF!=11,10,0)","v":{"$error":"#REF!"}},{"$f":"IF(#REF!=12,9,0)","v":{"$error":"#REF!"}},{"$f":"IF(#REF!=13,8,0)","v":{"$error":"#REF!"}},{"$f":"IF(#REF!=14,7,0)","v":{"$error":"#REF!"}},{"$f":"IF(#REF!=15,6,0)","v":{"$error":"#REF!"}},{"$f":"IF(#REF!=16,5,0)","v":{"$error":"#REF!"}},{"$f":"IF(#REF!=17,4,0)","v":{"$error":"#REF!"}},{"$f":"IF(#REF!=18,3,0)","v":{"$error":"#REF!"}},{"$f":"IF(#REF!=19,2,0)","v":{"$error":"#REF!"}},{"$f":"IF(#REF!=20,1,0)","v":{"$error":"#REF!"}},{"$f":"IF(#REF!>20,0,0)","v":{"$error":"#REF!"}},{"$f":"IF(#REF!=\"сх\",0,0)","v":{"$error":"#REF!"}},{"$f":"SUM(EX55:FS55)","v":{"$error":"#REF!"}},{"$f":"IF(#REF!=1,25,0)","v":{"$error":"#REF!"}},{"$f":"IF(#REF!=2,22,0)","v":{"$error":"#REF!"}},{"$f":"IF(#REF!=3,20,0)","v":{"$error":"#REF!"}},{"$f":"IF(#REF!=4,18,0)","v":{"$error":"#REF!"}},{"$f":"IF(#REF!=5,16,0)","v":{"$error":"#REF!"}},{"$f":"IF(#REF!=6,15,0)","v":{"$error":"#REF!"}},{"$f":"IF(#REF!=7,14,0)","v":{"$error":"#REF!"}},{"$f":"IF(#REF!=8,13,0)","v":{"$error":"#REF!"}},{"$f":"IF(#REF!=9,12,0)","v":{"$error":"#REF!"}},{"$f":"IF(#REF!=10,11,0)","v":{"$error":"#REF!"}},{"$f":"IF(#REF!=11,10,0)","v":{"$error":"#REF!"}},{"$f":"IF(#REF!=12,9,0)","v":{"$error":"#REF!"}},{"$f":"IF(#REF!=13,8,0)","v":{"$error":"#REF!"}},{"$f":"IF(#REF!=14,7,0)","v":{"$error":"#REF!"}},{"$f":"IF(#REF!=15,6,0)","v":{"$error":"#REF!"}},{"$f":"IF(#REF!=16,5,0)","v":{"$error":"#REF!"}},{"$f":"IF(#REF!=17,4,0)","v":{"$error":"#REF!"}},{"$f":"IF(#REF!=18,3,0)","v":{"$error":"#REF!"}},{"$f":"IF(#REF!=19,2,0)","v":{"$error":"#REF!"}},{"$f":"IF(#REF!=20,1,0)","v":{"$error":"#REF!"}},{"$f":"IF(#REF!>20,0,0)","v":{"$error":"#REF!"}},{"$f":"IF(#REF!=\"сх\",0,0)","v":{"$error":"#REF!"}},{"$f":"SUM(FU55:GP55)","v":{"$error":"#REF!"}},{"$f":"IF(#REF!=1,100,0)","v":{"$error":"#REF!"}},{"$f":"IF(#REF!=2,98,0)","v":{"$error":"#REF!"}},{"$f":"IF(#REF!=3,95,0)","v":{"$error":"#REF!"}},{"$f":"IF(#REF!=4,93,0)","v":{"$error":"#REF!"}},{"$f":"IF(#REF!=5,90,0)","v":{"$error":"#REF!"}},{"$f":"IF(#REF!=6,88,0)","v":{"$error":"#REF!"}},{"$f":"IF(#REF!=7,85,0)","v":{"$error":"#REF!"}},{"$f":"IF(#REF!=8,83,0)","v":{"$error":"#REF!"}},{"$f":"IF(#REF!=9,80,0)","v":{"$error":"#REF!"}},{"$f":"IF(#REF!=10,78,0)","v":{"$error":"#REF!"}},{"$f":"IF(#REF!=11,75,0)","v":{"$error":"#REF!"}},{"$f":"IF(#REF!=12,73,0)","v":{"$error":"#REF!"}},{"$f":"IF(#REF!=13,70,0)","v":{"$error":"#REF!"}},{"$f":"IF(#REF!=14,68,0)","v":{"$error":"#REF!"}},{"$f":"IF(#REF!=15,65,0)","v":{"$error":"#REF!"}},{"$f":"IF(#REF!=16,63,0)","v":{"$error":"#REF!"}},{"$f":"IF(#REF!=17,60,0)","v":{"$error":"#REF!"}},{"$f":"IF(#REF!=18,58,0)","v":{"$error":"#REF!"}},{"$f":"IF(#REF!=19,55,0)","v":{"$error":"#REF!"}},{"$f":"IF(#REF!=20,53,0)","v":{"$error":"#REF!"}},{"$f":"IF(#REF!>20,0,0)","v":{"$error":"#REF!"}},{"$f":"IF(#REF!=\"сх\",0,0)","v":{"$error":"#REF!"}},{"$f":"SUM(GR55:HM55)","v":{"$error":"#REF!"}},{"$f":"IF(#REF!=1,100,0)","v":{"$error":"#REF!"}},{"$f":"IF(#REF!=2,98,0)","v":{"$error":"#REF!"}},{"$f":"IF(#REF!=3,95,0)","v":{"$error":"#REF!"}},{"$f":"IF(#REF!=4,93,0)","v":{"$error":"#REF!"}},{"$f":"IF(#REF!=5,90,0)","v":{"$error":"#REF!"}},{"$f":"IF(#REF!=6,88,0)","v":{"$error":"#REF!"}},{"$f":"IF(#REF!=7,85,0)","v":{"$error":"#REF!"}},{"$f":"IF(#REF!=8,83,0)","v":{"$error":"#REF!"}},{"$f":"IF(#REF!=9,80,0)","v":{"$error":"#REF!"}},{"$f":"IF(#REF!=10,78,0)","v":{"$error":"#REF!"}},{"$f":"IF(#REF!=11,75,0)","v":{"$error":"#REF!"}},{"$f":"IF(#REF!=12,73,0)","v":{"$error":"#REF!"}},{"$f":"IF(#REF!=13,70,0)","v":{"$error":"#REF!"}},{"$f":"IF(#REF!=14,68,0)","v":{"$error":"#REF!"}},{"$f":"IF(#REF!=15,65,0)","v":{"$error":"#REF!"}},{"$f":"IF(#REF!=16,63,0)","v":{"$error":"#REF!"}},{"$f":"IF(#REF!=17,60,0)","v":{"$error":"#REF!"}},{"$f":"IF(#REF!=18,58,0)","v":{"$error":"#REF!"}},{"$f":"IF(#REF!=19,55,0)","v":{"$error":"#REF!"}},{"$f":"IF(#REF!=20,53,0)","v":{"$error":"#REF!"}},{"$f":"IF(#REF!>20,0,0)","v":{"$error":"#REF!"}},{"$f":"IF(#REF!=\"сх\",0,0)","v":{"$error":"#REF!"}},{"$f":"SUM(HO55:IJ55)","v":{"$error":"#REF!"}}]
["Главный судья"]
["судья Всероссийской категории:                                                                  С. А. Викторов (г. Санкт-Петербург, лицензия МФР тип А 185)                                                  "]
[]
["Главный секретарь соревнований"]
["судья Всероссийской категории:                                                            А. Ю. Иванов (г. Москва, лицензия МФР Тип А 105; FIM 9517/11245)"]